BEGIN:VCALENDAR
VERSION:2.0
PRODID:-//wenatcheeriverinstitute.org//NONSGML kigkonsult.se iCalcreator 2.
 30.10//
CALSCALE:GREGORIAN
METHOD:PUBLISH
UID:6d99ffce-a7a3-4030-a5a0-fe4e676dce71
X-WR-CALDESC:Watch the sun set and walk along the Wenatchee River! Guided b
 y Wenatchee River Institute naturalist field guides\, experience our natur
 al world at dusk\, then full darkness\, on snowshoes!\nSnowshoes available
  and hot cocoa to warm your bellies!\n\nCost: $14 member\, $20 non-member
 \nlimit of 16 participants
X-WR-RELCALID:88ae0c7dac28a24500e72507a61026d2
X-WR-TIMEZONE:America/Los_Angeles
BEGIN:VTIMEZONE
TZID:America/Los_Angeles
BEGIN:STANDARD
TZNAME:PST
DTSTART:20191103T020000
TZOFFSETFROM:-0700
TZOFFSETTO:-0800
RDATE:20201101T020000
END:STANDARD
BEGIN:DAYLIGHT
TZNAME:PDT
DTSTART:20190310T020000
TZOFFSETFROM:-0800
TZOFFSETTO:-0700
RDATE:20200308T020000
RDATE:20210314T020000
END:DAYLIGHT
END:VTIMEZONE
BEGIN:VEVENT
UID:f150fac3-d3f8-470f-bd00-40d5654890cc
DTSTAMP:20260425T112342Z
DESCRIPTION:Watch the sun set and walk along the Wenatchee River! Guided by
  Wenatchee River Institute naturalist field guides\, experience our natura
 l world at dusk\, then full darkness\, on snowshoes!\nSnowshoes available 
 and hot cocoa to warm your bellies!\n\nCost: $14 member\, $20 non-member\n
 limit of 16 participants
DTSTART;TZID=America/Los_Angeles:20200221T170000
DTEND;TZID=America/Los_Angeles:20200221T190000
LOCATION:Wenatchee River Institute
SUMMARY:Cancelled - Moonlight Snowshoe Stroll
END:VEVENT
END:VCALENDAR
