BEGIN:VCALENDAR
VERSION:2.0
PRODID:-//wenatcheeriverinstitute.org//NONSGML kigkonsult.se iCalcreator 2.
 30.10//
CALSCALE:GREGORIAN
METHOD:PUBLISH
UID:16ad7e61-4ce1-4020-9f1a-79d28911defb
X-WR-CALDESC:World-renowned wildlife cinematographer\, Neil Rettig\, embark
 s on the most challenging assignment of his career\, to find and film the 
 rarest eagle on the planet. An expertly woven tale with stunning cinematog
 raphy\, Bird of Prey journeys deep into the vanishing world of the Great P
 hilippine Eagle to reveal an inspiring group of people  determined to save
  the world's most critically endangered eagle species from extinction.  \n
 \nDoors open at 6:30pm for community social with local beer and wine avail
 able for purchase\, film begins at 7:00pm.
X-WR-RELCALID:63d1ceb58805c39b2af8ffa7651579c2
X-WR-TIMEZONE:America/Los_Angeles
BEGIN:VTIMEZONE
TZID:America/Los_Angeles
BEGIN:STANDARD
TZNAME:PST
DTSTART:20191103T020000
TZOFFSETFROM:-0700
TZOFFSETTO:-0800
RDATE:20201101T020000
END:STANDARD
BEGIN:DAYLIGHT
TZNAME:PDT
DTSTART:20190310T020000
TZOFFSETFROM:-0800
TZOFFSETTO:-0700
RDATE:20200308T020000
RDATE:20210314T020000
END:DAYLIGHT
END:VTIMEZONE
BEGIN:VEVENT
UID:47f848b7-cdca-4942-9093-0b548f041679
DTSTAMP:20260425T113032Z
DESCRIPTION:World-renowned wildlife cinematographer\, Neil Rettig\, embarks
  on the most challenging assignment of his career\, to find and film the r
 arest eagle on the planet. An expertly woven tale with stunning cinematogr
 aphy\, Bird of Prey journeys deep into the vanishing world of the Great Ph
 ilippine Eagle to reveal an inspiring group of people  determined to save 
 the world's most critically endangered eagle species from extinction.  \n
 \nDoors open at 6:30pm for community social with local beer and wine avail
 able for purchase\, film begins at 7:00pm.
DTSTART;TZID=America/Los_Angeles:20200226T190000
DTEND;TZID=America/Los_Angeles:20200226T203000
LOCATION:Red Barn\, 347 Division Street\, Leavenworth
SUMMARY:Red Barn Event: Bird of Prey film showing
END:VEVENT
END:VCALENDAR
