BEGIN:VCALENDAR
VERSION:2.0
PRODID:-//wenatcheeriverinstitute.org//NONSGML kigkonsult.se iCalcreator 2.
 30.10//
CALSCALE:GREGORIAN
METHOD:PUBLISH
UID:5192576c-fee9-4ee0-9120-35d8467aa1d5
X-WR-CALDESC:Meet at 347 Division Street at 10am\n\nJoin area naturalist gu
 ides for a FREE guided nature stroll along the Waterfront Park Trail in Le
 avenworth\, WA! Even though we are within close proximity to the bustling 
 downtown area\, you will still have the feeling of being in the wilderness
  along our beautiful river. \nAll ages welcome! \n\nDrop-ins welcome. Rese
 rvations appreciated and required for groups of 8+.\n\nFor reservations\, 
 call 509-548-0181 x5
X-WR-RELCALID:d2751f732803692b8fc0c6cbd7962915
X-WR-TIMEZONE:America/Los_Angeles
BEGIN:VTIMEZONE
TZID:America/Los_Angeles
BEGIN:STANDARD
TZNAME:PST
DTSTART:20191103T020000
TZOFFSETFROM:-0700
TZOFFSETTO:-0800
RDATE:20201101T020000
END:STANDARD
BEGIN:DAYLIGHT
TZNAME:PDT
DTSTART:20190310T020000
TZOFFSETFROM:-0800
TZOFFSETTO:-0700
RDATE:20200308T020000
RDATE:20210314T020000
END:DAYLIGHT
END:VTIMEZONE
BEGIN:VEVENT
UID:437cbef1-7ec3-4270-98ff-377c277a62aa
DTSTAMP:20260425T112858Z
DESCRIPTION:Meet at 347 Division Street at 10am\n\nJoin area naturalist gui
 des for a FREE guided nature stroll along the Waterfront Park Trail in Lea
 venworth\, WA! Even though we are within close proximity to the bustling d
 owntown area\, you will still have the feeling of being in the wilderness 
 along our beautiful river. \nAll ages welcome! \n\nDrop-ins welcome. Reser
 vations appreciated and required for groups of 8+.\n\nFor reservations\, c
 all 509-548-0181 x5
DTSTART;TZID=America/Los_Angeles:20200227T100000
DTEND;TZID=America/Los_Angeles:20200227T120000
LOCATION:Wenatchee River Institute
SUMMARY:Winter Nature Stroll at WRI!
END:VEVENT
END:VCALENDAR
