BEGIN:VCALENDAR
VERSION:2.0
PRODID:-//wenatcheeriverinstitute.org//NONSGML kigkonsult.se iCalcreator 2.
 30.10//
CALSCALE:GREGORIAN
METHOD:PUBLISH
UID:383c2b79-71b6-4bf0-8fcb-f58da38216c1
X-WR-CALDESC:Are you a backcountry skier\, snowboarder\, snowshoer\, snowmo
 biler\, cross country skier\, camper\, or just like to nerd out about snow
 ? Join Wenatchee River Institute and Matt Primomo\, local NWAC avalanche s
 pecialist\, and owner of Primo Snow and Avalanche\, for a talk on the  his
 tory of the snowpack\, weather\, and avalanche events so far this season\,
  as well as a current conditions update. We will also explore the correlat
 ion between atmospheric rivers and avalanche cycles. \n \n Free event\, ra
 ffle of WRI and brewery prizes to raise funds for WRI programming. $1/tick
 et!
X-WR-RELCALID:f9fafbe6131a8bb776dab3e565f30213
X-WR-TIMEZONE:America/Los_Angeles
BEGIN:VTIMEZONE
TZID:America/Los_Angeles
BEGIN:STANDARD
TZNAME:PST
DTSTART:20191103T020000
TZOFFSETFROM:-0700
TZOFFSETTO:-0800
RDATE:20201101T020000
END:STANDARD
BEGIN:DAYLIGHT
TZNAME:PDT
DTSTART:20190310T020000
TZOFFSETFROM:-0800
TZOFFSETTO:-0700
RDATE:20200308T020000
RDATE:20210314T020000
END:DAYLIGHT
END:VTIMEZONE
BEGIN:VEVENT
UID:071be35a-13fa-4820-bc31-c221e95455a4
DTSTAMP:20260425T113115Z
DESCRIPTION:Are you a backcountry skier\, snowboarder\, snowshoer\, snowmob
 iler\, cross country skier\, camper\, or just like to nerd out about snow?
  Join Wenatchee River Institute and Matt Primomo\, local NWAC avalanche sp
 ecialist\, and owner of Primo Snow and Avalanche\, for a talk on the  hist
 ory of the snowpack\, weather\, and avalanche events so far this season\, 
 as well as a current conditions update. We will also explore the correlati
 on between atmospheric rivers and avalanche cycles. \n \n Free event\, raf
 fle of WRI and brewery prizes to raise funds for WRI programming. $1/ticke
 t!
DTSTART;TZID=America/Los_Angeles:20200227T180000
DTEND;TZID=America/Los_Angeles:20200227T190000
LOCATION:Badger Mountain Brewery
SUMMARY:Science on Tap! Avalanche Cycles and Atmospheric Rivers - The winte
 r of 2019-20 in the Central Cascades
END:VEVENT
END:VCALENDAR
