BEGIN:VCALENDAR
VERSION:2.0
PRODID:-//wenatcheeriverinstitute.org//NONSGML kigkonsult.se iCalcreator 2.
 30.10//
CALSCALE:GREGORIAN
METHOD:PUBLISH
UID:86359f23-d5a9-4a07-b489-48d68de8a569
X-WR-CALDESC:Are you stuck at home and looking for ways to keep connecting 
 with the natural world? Take a moment to think about all of the beauty sur
 rounding your home and neighborhood. There is much to be noticed right the
 re! Join Wenatchee River Institute and local nature photographer Reed Carl
 son from Icicle Valley Photography for a multi-session workshop on capturi
 ng better photographs wherever you are. \n\nThis workshop will provide you
  with routes and strategies for photographing nature\, people and events o
 f your life. We will provide you with ideas and a toolkit to help you make
  your own pathway of visual explorations more honest and exciting. \n\nCla
 ss limit: 25\nCost: $30 members\, $35 non-members\n\nOur first session\, o
 n Thursday June 4th\, will be focused on meeting the instructor and other 
 workshop participants in an informal online session. Reed will provide you
  with a set of resources to assist your camera and editing skills. He will
  answer any questions you have about the upcoming event. Reed will end thi
 s evening session by sending you off with a photography challenge! You wil
 l have the whole weekend to complete this challenge\, immersing yourself i
 n the natural world. \n\nWe will come back together on Monday\, June 8th\,
  to see what you shot. Reed\, and the other participants\, will be able to
  see your work\, providing constructive critique to build upon your skills
 . \n\nWhat you need: \n-a camera of some sort (cell phone\, digital\, etc.
 )\n-familiarity with your camera device and computer for uploading your ph
 otos. Reed can provide additional instruction if needed by prior arrangeme
 nt.\n-access to internet and Zoom\n-a curiosity to reach out and expand yo
 ur visual skills through photography\n\nPhoto Credit: Reed Carlson
X-WR-RELCALID:419eb68521de37ec78f8d2de9f8420e8
X-WR-TIMEZONE:America/Los_Angeles
BEGIN:VTIMEZONE
TZID:America/Los_Angeles
BEGIN:STANDARD
TZNAME:PST
DTSTART:20191103T020000
TZOFFSETFROM:-0700
TZOFFSETTO:-0800
RDATE:20201101T020000
RDATE:20211107T020000
END:STANDARD
BEGIN:DAYLIGHT
TZNAME:PDT
DTSTART:20200308T020000
TZOFFSETFROM:-0800
TZOFFSETTO:-0700
RDATE:20210314T020000
END:DAYLIGHT
END:VTIMEZONE
BEGIN:VEVENT
UID:96a6ada5-4a79-4b59-b391-d2e26413a84f
DTSTAMP:20260420T050246Z
DESCRIPTION:Are you stuck at home and looking for ways to keep connecting w
 ith the natural world? Take a moment to think about all of the beauty surr
 ounding your home and neighborhood. There is much to be noticed right ther
 e! Join Wenatchee River Institute and local nature photographer Reed Carls
 on from Icicle Valley Photography for a multi-session workshop on capturin
 g better photographs wherever you are. \n\nThis workshop will provide you 
 with routes and strategies for photographing nature\, people and events of
  your life. We will provide you with ideas and a toolkit to help you make 
 your own pathway of visual explorations more honest and exciting. \n\nClas
 s limit: 25\nCost: $30 members\, $35 non-members\n\nOur first session\, on
  Thursday June 4th\, will be focused on meeting the instructor and other w
 orkshop participants in an informal online session. Reed will provide you 
 with a set of resources to assist your camera and editing skills. He will 
 answer any questions you have about the upcoming event. Reed will end this
  evening session by sending you off with a photography challenge! You will
  have the whole weekend to complete this challenge\, immersing yourself in
  the natural world. \n\nWe will come back together on Monday\, June 8th\, 
 to see what you shot. Reed\, and the other participants\, will be able to 
 see your work\, providing constructive critique to build upon your skills.
  \n\nWhat you need: \n-a camera of some sort (cell phone\, digital\, etc.)
 \n-familiarity with your camera device and computer for uploading your pho
 tos. Reed can provide additional instruction if needed by prior arrangemen
 t.\n-access to internet and Zoom\n-a curiosity to reach out and expand you
 r visual skills through photography\n\nPhoto Credit: Reed Carlson
DTSTART;TZID=America/Los_Angeles:20200604T180000
DTEND;TZID=America/Los_Angeles:20200604T200000
LOCATION:Your own home!
SUMMARY:Virtual Nature Photography Workshop
END:VEVENT
END:VCALENDAR
