BEGIN:VCALENDAR
VERSION:2.0
PRODID:-//wenatcheeriverinstitute.org//NONSGML kigkonsult.se iCalcreator 2.
 30.10//
CALSCALE:GREGORIAN
METHOD:PUBLISH
UID:8bfafe54-4cbe-4a8e-b245-e41e865bf321
X-WR-CALDESC:Nature Day Camp (campers entering grades 1-3)\n\nWRI is reimag
 ining summer camps for 2020 as we adapt to COVID-19. Join small groups of 
 campers and Wenatchee River Institute staff for a new version of camp! We 
 will spend the days outdoors\, exploring Wenatchee River Institute and the
  surrounding park\, leading us through forested habitats\, along the river
 \, and through grassy meadows. Camp groups will investigate and learn abou
 t the world around us\, play fun games\, walk along our riverfront trail s
 ystem\, and do art activities. Each week of camp will vary with new themes
  and activities\, while also including weekly favorites such as games of c
 amouflage!  \n\nThis year’s summer camps will be dependent on Chelan Count
 y staying in at least Phase 1.5 in Safe Start WA. Increased social distanc
 ing and hygiene will be put in place. Campers will be placed into small gr
 oups by age. Each camp group will be based at different locations througho
 ut our campus and will not interact. \n\nCamp will take place 10:00am-2:00
 pm daily. \n\nCamp cost: $100 WRI member\, $120 non-member. Full and parti
 al scholarships are available. Scholarship applications can be found on th
 e main camps page.
X-WR-RELCALID:90afbc53ccc438f96cec96fd10642480
X-WR-TIMEZONE:America/Los_Angeles
BEGIN:VTIMEZONE
TZID:America/Los_Angeles
BEGIN:STANDARD
TZNAME:PST
DTSTART:20191103T020000
TZOFFSETFROM:-0700
TZOFFSETTO:-0800
RDATE:20201101T020000
RDATE:20211107T020000
END:STANDARD
BEGIN:DAYLIGHT
TZNAME:PDT
DTSTART:20200308T020000
TZOFFSETFROM:-0800
TZOFFSETTO:-0700
RDATE:20210314T020000
END:DAYLIGHT
END:VTIMEZONE
BEGIN:VEVENT
UID:a6ff876c-e1d7-47a0-a9c3-5e7d7265d530
DTSTAMP:20260425T032734Z
DESCRIPTION:Nature Day Camp (campers entering grades 1-3)\n\nWRI is reimagi
 ning summer camps for 2020 as we adapt to COVID-19. Join small groups of c
 ampers and Wenatchee River Institute staff for a new version of camp! We w
 ill spend the days outdoors\, exploring Wenatchee River Institute and the 
 surrounding park\, leading us through forested habitats\, along the river\
 , and through grassy meadows. Camp groups will investigate and learn about
  the world around us\, play fun games\, walk along our riverfront trail sy
 stem\, and do art activities. Each week of camp will vary with new themes 
 and activities\, while also including weekly favorites such as games of ca
 mouflage!  \n\nThis year’s summer camps will be dependent on Chelan County
  staying in at least Phase 1.5 in Safe Start WA. Increased social distanci
 ng and hygiene will be put in place. Campers will be placed into small gro
 ups by age. Each camp group will be based at different locations throughou
 t our campus and will not interact. \n\nCamp will take place 10:00am-2:00p
 m daily. \n\nCamp cost: $100 WRI member\, $120 non-member. Full and partia
 l scholarships are available. Scholarship applications can be found on the
  main camps page.
DTSTART;TZID=America/Los_Angeles:20200629T100000
DTEND;TZID=America/Los_Angeles:20200702T140000
LOCATION:347 Division St\, Leavenworth\, WA\, 98826
SUMMARY:Nature Day Camp Week 3 (Grades 1-3)
END:VEVENT
END:VCALENDAR
