BEGIN:VCALENDAR
VERSION:2.0
PRODID:-//wenatcheeriverinstitute.org//NONSGML kigkonsult.se iCalcreator 2.
 30.10//
CALSCALE:GREGORIAN
METHOD:PUBLISH
UID:3b56af0a-bf79-466c-aaec-435d8374d399
X-WR-CALDESC:Naturalist Camp (campers entering grades 1-6)\n\nWRI is reimag
 ining summer camps for 2020 as we adapt to COVID-19. Join small groups of 
 campers and Wenatchee River Institute staff for a new version of camp! We 
 will spend the days outdoors\, exploring Wenatchee River Institute and the
  surrounding park\, leading us through forested habitats\, along the river
 \, and through grassy meadows. Camp groups will investigate and learn abou
 t the world around us\, play fun games\, walk along our riverfront trail s
 ystem\, and do art activities. Each week of camp will vary with new themes
  and activities\, while also including weekly favorites such as games of c
 amouflage!  \n\nThis year’s summer camps will be dependent on Chelan Count
 y staying in at least Phase 1.5 in Safe Start WA. Increased social distanc
 ing and hygiene will be put in place. Campers will be placed into small gr
 oups by age. Each camp group will be based at different locations througho
 ut our campus and will not interact. \n\nCamp will take place 10:00am-2:00
 pm daily. \n\nCamp cost: $125 WRI member\, $150 non-member. Full and parti
 al scholarships are available. Scholarship applications can be found on th
 e main camps page. WRI Members\, enter the promo code NaturalistMember2020
  during registration to apply your discount!
X-WR-RELCALID:6673a15f7778eb8f02b687a268979303
X-WR-TIMEZONE:America/Los_Angeles
BEGIN:VTIMEZONE
TZID:America/Los_Angeles
BEGIN:STANDARD
TZNAME:PST
DTSTART:20191103T020000
TZOFFSETFROM:-0700
TZOFFSETTO:-0800
RDATE:20201101T020000
RDATE:20211107T020000
END:STANDARD
BEGIN:DAYLIGHT
TZNAME:PDT
DTSTART:20200308T020000
TZOFFSETFROM:-0800
TZOFFSETTO:-0700
RDATE:20210314T020000
END:DAYLIGHT
END:VTIMEZONE
BEGIN:VEVENT
UID:70e50dd7-b36c-416b-b5a0-ce34e6c8144c
DTSTAMP:20260420T161040Z
DESCRIPTION:Naturalist Camp (campers entering grades 1-6)\n\nWRI is reimagi
 ning summer camps for 2020 as we adapt to COVID-19. Join small groups of c
 ampers and Wenatchee River Institute staff for a new version of camp! We w
 ill spend the days outdoors\, exploring Wenatchee River Institute and the 
 surrounding park\, leading us through forested habitats\, along the river\
 , and through grassy meadows. Camp groups will investigate and learn about
  the world around us\, play fun games\, walk along our riverfront trail sy
 stem\, and do art activities. Each week of camp will vary with new themes 
 and activities\, while also including weekly favorites such as games of ca
 mouflage!  \n\nThis year’s summer camps will be dependent on Chelan County
  staying in at least Phase 1.5 in Safe Start WA. Increased social distanci
 ng and hygiene will be put in place. Campers will be placed into small gro
 ups by age. Each camp group will be based at different locations throughou
 t our campus and will not interact. \n\nCamp will take place 10:00am-2:00p
 m daily. \n\nCamp cost: $125 WRI member\, $150 non-member. Full and partia
 l scholarships are available. Scholarship applications can be found on the
  main camps page. WRI Members\, enter the promo code NaturalistMember2020 
 during registration to apply your discount!
DTSTART;TZID=America/Los_Angeles:20200706T100000
DTEND;TZID=America/Los_Angeles:20200710T140000
LOCATION:347 Division St\, Leavenworth\, WA\, 98826
SUMMARY:Naturalist Camp (Grades 1-6)
END:VEVENT
END:VCALENDAR
