BEGIN:VCALENDAR
VERSION:2.0
PRODID:-//wenatcheeriverinstitute.org//NONSGML kigkonsult.se iCalcreator 2.
 30.10//
CALSCALE:GREGORIAN
METHOD:PUBLISH
UID:86d716dd-cae4-4bea-9c22-1d2acab8b3d9
X-WR-CALDESC:Registration required!\n\nCommunity programs are back! Join ou
 r Community Programs Manager on a guided nature walk on trails throughout 
 the Leavenworth area. We have a few new guidelines to follow:\n-Groups of 
 6: we will only allow 5 participants per walk\, please register ahead of t
 ime\n-Wear a mask\n-Social distancing will be maintained\n-If you have any
  symptoms of COVID-19 in the 3 weeks prior to the event\, we ask that you 
 opt out\n-Respect other participants and their personal boundaries\n\nThis
  week we will meet at the Pipeline Trail in Tumwater Canyon. Enjoy the sou
 nds of the rushing Wenatchee River as we take a look at wildlife and plant
 s around us. The trail is 2.5 miles round trip with 100ft of elevation gai
 n.\n\nMeet at the trailhead at 9:30am. No parking pass required.\n\nWhat t
 o bring:\nmask\nwater\nsnacks\nsunscreen/ sun protection clothing/ sunglas
 ses\nsturdy walking shoes\nbackpack\nbinoculars (Rachel will bring extra)
 \nhand sanitizer
X-WR-RELCALID:981cbcfd669a5c1cc2b514ba0487d2e6
X-WR-TIMEZONE:America/Los_Angeles
BEGIN:VTIMEZONE
TZID:America/Los_Angeles
BEGIN:STANDARD
TZNAME:PST
DTSTART:20191103T020000
TZOFFSETFROM:-0700
TZOFFSETTO:-0800
RDATE:20201101T020000
RDATE:20211107T020000
END:STANDARD
BEGIN:DAYLIGHT
TZNAME:PDT
DTSTART:20200308T020000
TZOFFSETFROM:-0800
TZOFFSETTO:-0700
RDATE:20210314T020000
END:DAYLIGHT
END:VTIMEZONE
BEGIN:VEVENT
UID:b05527e4-9720-476b-9f2c-f5872437af69
DTSTAMP:20260425T032722Z
DESCRIPTION:Registration required!\n\nCommunity programs are back! Join our
  Community Programs Manager on a guided nature walk on trails throughout t
 he Leavenworth area. We have a few new guidelines to follow:\n-Groups of 6
 : we will only allow 5 participants per walk\, please register ahead of ti
 me\n-Wear a mask\n-Social distancing will be maintained\n-If you have any 
 symptoms of COVID-19 in the 3 weeks prior to the event\, we ask that you o
 pt out\n-Respect other participants and their personal boundaries\n\nThis 
 week we will meet at the Pipeline Trail in Tumwater Canyon. Enjoy the soun
 ds of the rushing Wenatchee River as we take a look at wildlife and plants
  around us. The trail is 2.5 miles round trip with 100ft of elevation gain
 .\n\nMeet at the trailhead at 9:30am. No parking pass required.\n\nWhat to
  bring:\nmask\nwater\nsnacks\nsunscreen/ sun protection clothing/ sunglass
 es\nsturdy walking shoes\nbackpack\nbinoculars (Rachel will bring extra)\n
 hand sanitizer
DTSTART;TZID=America/Los_Angeles:20200715T093000
DTEND;TZID=America/Los_Angeles:20200715T113000
LOCATION:Pipeline Trail-Tumwater Canyon
SUMMARY:Free Community Nature Walk
END:VEVENT
END:VCALENDAR
