BEGIN:VCALENDAR
VERSION:2.0
PRODID:-//wenatcheeriverinstitute.org//NONSGML kigkonsult.se iCalcreator 2.
 30.10//
CALSCALE:GREGORIAN
METHOD:PUBLISH
UID:96743cc1-d86c-4465-b5a3-32117ff0d860
X-WR-CALDESC:Pre-registration required!\n\nCommunity programs are back! Joi
 n our Community Programs Manager to rid Wenatchee River Institute and Barn
  Beach Reserve of noxious weeds! We have a few new guidelines to follow:\n
 -Groups of 6: we will only allow 5 participants per walk\, please register
  ahead of time\n-Wear a mask\n-Social distancing will be maintained\n-If y
 ou have any symptoms of COVID-19 in the 3 weeks prior to the event\, we as
 k that you opt out\n-Respect other participants and their personal boundar
 ies\n\nThis week we will meet at the Wenatchee River Institute parking lot
  at 9am. We will be working in the old barn meadow\, down by the river.\n
 \nWhat to bring:\nmask\nwater\nsnacks\nsunscreen/ sun protection clothing/
  sunglasses\nsturdy shoes\ngloves\nhand sanitizer
X-WR-RELCALID:8854ee396507ef4e1384a12626781cf9
X-WR-TIMEZONE:America/Los_Angeles
BEGIN:VTIMEZONE
TZID:America/Los_Angeles
BEGIN:STANDARD
TZNAME:PST
DTSTART:20191103T020000
TZOFFSETFROM:-0700
TZOFFSETTO:-0800
RDATE:20201101T020000
RDATE:20211107T020000
END:STANDARD
BEGIN:DAYLIGHT
TZNAME:PDT
DTSTART:20200308T020000
TZOFFSETFROM:-0800
TZOFFSETTO:-0700
RDATE:20210314T020000
END:DAYLIGHT
END:VTIMEZONE
BEGIN:VEVENT
UID:7123ed4e-0068-4cf5-8fec-40c20e8732ce
DTSTAMP:20260425T033019Z
DESCRIPTION:Pre-registration required!\n\nCommunity programs are back! Join
  our Community Programs Manager to rid Wenatchee River Institute and Barn 
 Beach Reserve of noxious weeds! We have a few new guidelines to follow:\n-
 Groups of 6: we will only allow 5 participants per walk\, please register 
 ahead of time\n-Wear a mask\n-Social distancing will be maintained\n-If yo
 u have any symptoms of COVID-19 in the 3 weeks prior to the event\, we ask
  that you opt out\n-Respect other participants and their personal boundari
 es\n\nThis week we will meet at the Wenatchee River Institute parking lot 
 at 9am. We will be working in the old barn meadow\, down by the river.\n\n
 What to bring:\nmask\nwater\nsnacks\nsunscreen/ sun protection clothing/ s
 unglasses\nsturdy shoes\ngloves\nhand sanitizer
DTSTART;TZID=America/Los_Angeles:20200716T090000
DTEND;TZID=America/Los_Angeles:20200716T103000
LOCATION:Wenatchee River Institute
SUMMARY:Noxious Weed Pull
END:VEVENT
END:VCALENDAR
