BEGIN:VCALENDAR
VERSION:2.0
PRODID:-//wenatcheeriverinstitute.org//NONSGML kigkonsult.se iCalcreator 2.
 30.10//
CALSCALE:GREGORIAN
METHOD:PUBLISH
UID:b1babca4-7e2c-446d-8093-36de5b2141df
X-WR-CALDESC:Explorer Camp (campers entering grades 1-6)\n\nWRI is reimagin
 ing summer camps for 2020 as we adapt to COVID-19. Join small groups of ca
 mpers and Wenatchee River Institute staff for a new version of camp! We wi
 ll spend the days outdoors\, exploring Wenatchee River Institute and the s
 urrounding park\, leading us through forested habitats\, along the river\,
  and through grassy meadows. Camp groups will investigate and learn about 
 the world around us\, play fun games\, walk along our riverfront trail sys
 tem\, and do art activities. Each week of camp will vary with new themes a
 nd activities\, while also including weekly favorites such as games of cam
 ouflage!  \n\nThis year’s summer camps will be dependent on Chelan County 
 staying in at least Phase 1.5 in Safe Start WA. Increased social distancin
 g and hygiene will be put in place. Campers will be placed into small grou
 ps by age. Each camp group will be based at different locations throughout
  our campus and will not interact. \n\nCamp will take place 10:00am-2:00pm
  daily. \n\nCamp cost: $125 WRI member\, $150 non-member. Full and partial
  scholarships are available. Scholarship applications can be found on the 
 main camps page. WRI Members\, enter the promo code ExplorerMember2020 dur
 ing registration to apply your discount!
X-WR-RELCALID:6477d4a92c9ca3d656a29c9c44d90b3d
X-WR-TIMEZONE:America/Los_Angeles
BEGIN:VTIMEZONE
TZID:America/Los_Angeles
BEGIN:STANDARD
TZNAME:PST
DTSTART:20191103T020000
TZOFFSETFROM:-0700
TZOFFSETTO:-0800
RDATE:20201101T020000
RDATE:20211107T020000
END:STANDARD
BEGIN:DAYLIGHT
TZNAME:PDT
DTSTART:20200308T020000
TZOFFSETFROM:-0800
TZOFFSETTO:-0700
RDATE:20210314T020000
END:DAYLIGHT
END:VTIMEZONE
BEGIN:VEVENT
UID:8476930c-a7a9-48a6-9cd9-02206da6c90f
DTSTAMP:20260421T174149Z
DESCRIPTION:Explorer Camp (campers entering grades 1-6)\n\nWRI is reimagini
 ng summer camps for 2020 as we adapt to COVID-19. Join small groups of cam
 pers and Wenatchee River Institute staff for a new version of camp! We wil
 l spend the days outdoors\, exploring Wenatchee River Institute and the su
 rrounding park\, leading us through forested habitats\, along the river\, 
 and through grassy meadows. Camp groups will investigate and learn about t
 he world around us\, play fun games\, walk along our riverfront trail syst
 em\, and do art activities. Each week of camp will vary with new themes an
 d activities\, while also including weekly favorites such as games of camo
 uflage!  \n\nThis year’s summer camps will be dependent on Chelan County s
 taying in at least Phase 1.5 in Safe Start WA. Increased social distancing
  and hygiene will be put in place. Campers will be placed into small group
 s by age. Each camp group will be based at different locations throughout 
 our campus and will not interact. \n\nCamp will take place 10:00am-2:00pm 
 daily. \n\nCamp cost: $125 WRI member\, $150 non-member. Full and partial 
 scholarships are available. Scholarship applications can be found on the m
 ain camps page. WRI Members\, enter the promo code ExplorerMember2020 duri
 ng registration to apply your discount!
DTSTART;TZID=America/Los_Angeles:20200720T100000
DTEND;TZID=America/Los_Angeles:20200724T140000
LOCATION:347 Division St\, Leavenworth\, WA\, 98826
SUMMARY:Explorer Camp (Grades 1-6)
END:VEVENT
END:VCALENDAR
