BEGIN:VCALENDAR
VERSION:2.0
PRODID:-//wenatcheeriverinstitute.org//NONSGML kigkonsult.se iCalcreator 2.
 30.10//
CALSCALE:GREGORIAN
METHOD:PUBLISH
UID:e9cf6262-34d3-4375-b324-5cb29eeb632f
X-WR-CALDESC:Registration required!\n\nCommunity programs are back! Join ou
 r Community Programs Manager on a guided nature walk on trails throughout 
 the Leavenworth area. We have a few new guidelines to follow:\n-Groups of 
 6: we will only allow 5 participants per walk\, please register ahead of t
 ime\n-Wear a mask\n-Social distancing will be maintained\n-If you have any
  symptoms of COVID-19 in the 3 weeks prior to the event\, we ask that you 
 opt out\n-Respect other participants and their personal boundaries\n\nThis
  week we will meet at the Icicle Ridge Trailhead. Enjoy the cooler morning
  air as we travel up the ridge. Many native plants and birds will fill our
  day with new knowledge. This trail is 6 miles roundtrip with 1800 feet el
 evation gain. (we may not make it all the way to the top).\n\nMeet at the 
 trailhead at 9:30am. No parking pass required.\n\nWhat to bring:\nmask\nwa
 ter\nsnacks\nsunscreen/ sun protection clothing/ sunglasses\nsturdy walkin
 g shoes\nbackpack\nbinoculars (Rachel will bring extra)\nhand sanitizer
X-WR-RELCALID:3dd36541cb60aa2009ae5acfd3d690a5
X-WR-TIMEZONE:America/Los_Angeles
BEGIN:VTIMEZONE
TZID:America/Los_Angeles
BEGIN:STANDARD
TZNAME:PST
DTSTART:20191103T020000
TZOFFSETFROM:-0700
TZOFFSETTO:-0800
RDATE:20201101T020000
RDATE:20211107T020000
END:STANDARD
BEGIN:DAYLIGHT
TZNAME:PDT
DTSTART:20200308T020000
TZOFFSETFROM:-0800
TZOFFSETTO:-0700
RDATE:20210314T020000
END:DAYLIGHT
END:VTIMEZONE
BEGIN:VEVENT
UID:7b7d0632-2165-488d-bb7a-c9d9ba733ed5
DTSTAMP:20260425T032320Z
DESCRIPTION:Registration required!\n\nCommunity programs are back! Join our
  Community Programs Manager on a guided nature walk on trails throughout t
 he Leavenworth area. We have a few new guidelines to follow:\n-Groups of 6
 : we will only allow 5 participants per walk\, please register ahead of ti
 me\n-Wear a mask\n-Social distancing will be maintained\n-If you have any 
 symptoms of COVID-19 in the 3 weeks prior to the event\, we ask that you o
 pt out\n-Respect other participants and their personal boundaries\n\nThis 
 week we will meet at the Icicle Ridge Trailhead. Enjoy the cooler morning 
 air as we travel up the ridge. Many native plants and birds will fill our 
 day with new knowledge. This trail is 6 miles roundtrip with 1800 feet ele
 vation gain. (we may not make it all the way to the top).\n\nMeet at the t
 railhead at 9:30am. No parking pass required.\n\nWhat to bring:\nmask\nwat
 er\nsnacks\nsunscreen/ sun protection clothing/ sunglasses\nsturdy walking
  shoes\nbackpack\nbinoculars (Rachel will bring extra)\nhand sanitizer
DTSTART;TZID=America/Los_Angeles:20200722T093000
DTEND;TZID=America/Los_Angeles:20200722T120000
LOCATION:Icicle Ridge Trail
SUMMARY:Free Community Nature Walk
END:VEVENT
END:VCALENDAR
