BEGIN:VCALENDAR
VERSION:2.0
PRODID:-//wenatcheeriverinstitute.org//NONSGML kigkonsult.se iCalcreator 2.
 30.10//
CALSCALE:GREGORIAN
METHOD:PUBLISH
UID:84f3a5a9-2775-4fea-b71e-32ac806148de
X-WR-CALDESC:Ponderosa Camp (campers entering grades 1-6)\n\nWRI is reimagi
 ning summer camps for 2020 as we adapt to COVID-19. Join small groups of c
 ampers and Wenatchee River Institute staff for a new version of camp! We w
 ill spend the days outdoors\, exploring Wenatchee River Institute and the 
 surrounding park\, leading us through forested habitats\, along the river\
 , and through grassy meadows. Camp groups will investigate and learn about
  the world around us\, play fun games\, walk along our riverfront trail sy
 stem\, and do art activities. Each week of camp will vary with new themes 
 and activities\, while also including weekly favorites such as games of ca
 mouflage!  \n\nThis year’s summer camps will be dependent on Chelan County
  staying in at least Phase 1.5 in Safe Start WA. Increased social distanci
 ng and hygiene will be put in place. Campers will be placed into small gro
 ups by age. Each camp group will be based at different locations throughou
 t our campus and will not interact. \n\nCamp will take place 10:00am-2:00p
 m daily. \n\nCamp cost: $125 WRI member\, $150 non-member. Full and partia
 l scholarships are available. Scholarship applications can be found on the
  main camps page. WRI Members\, enter the promo code PonderosaMember2020 d
 uring registration to apply your discount!
X-WR-RELCALID:b2cab9fc6f6541bdfc7951764376ac42
X-WR-TIMEZONE:America/Los_Angeles
BEGIN:VTIMEZONE
TZID:America/Los_Angeles
BEGIN:STANDARD
TZNAME:PST
DTSTART:20191103T020000
TZOFFSETFROM:-0700
TZOFFSETTO:-0800
RDATE:20201101T020000
RDATE:20211107T020000
END:STANDARD
BEGIN:DAYLIGHT
TZNAME:PDT
DTSTART:20200308T020000
TZOFFSETFROM:-0800
TZOFFSETTO:-0700
RDATE:20210314T020000
END:DAYLIGHT
END:VTIMEZONE
BEGIN:VEVENT
UID:b4fcd2f3-e104-4893-b3ae-850d6c2df423
DTSTAMP:20260425T020731Z
DESCRIPTION:Ponderosa Camp (campers entering grades 1-6)\n\nWRI is reimagin
 ing summer camps for 2020 as we adapt to COVID-19. Join small groups of ca
 mpers and Wenatchee River Institute staff for a new version of camp! We wi
 ll spend the days outdoors\, exploring Wenatchee River Institute and the s
 urrounding park\, leading us through forested habitats\, along the river\,
  and through grassy meadows. Camp groups will investigate and learn about 
 the world around us\, play fun games\, walk along our riverfront trail sys
 tem\, and do art activities. Each week of camp will vary with new themes a
 nd activities\, while also including weekly favorites such as games of cam
 ouflage!  \n\nThis year’s summer camps will be dependent on Chelan County 
 staying in at least Phase 1.5 in Safe Start WA. Increased social distancin
 g and hygiene will be put in place. Campers will be placed into small grou
 ps by age. Each camp group will be based at different locations throughout
  our campus and will not interact. \n\nCamp will take place 10:00am-2:00pm
  daily. \n\nCamp cost: $125 WRI member\, $150 non-member. Full and partial
  scholarships are available. Scholarship applications can be found on the 
 main camps page. WRI Members\, enter the promo code PonderosaMember2020 du
 ring registration to apply your discount!
DTSTART;TZID=America/Los_Angeles:20200803T100000
DTEND;TZID=America/Los_Angeles:20200807T140000
LOCATION:347 Division St\, Leavenworth\, WA\, 98826
SUMMARY:Ponderosa Camp (Grades 1-6)
END:VEVENT
END:VCALENDAR
