BEGIN:VCALENDAR
VERSION:2.0
PRODID:-//wenatcheeriverinstitute.org//NONSGML kigkonsult.se iCalcreator 2.
 30.10//
CALSCALE:GREGORIAN
METHOD:PUBLISH
UID:17977325-5ad8-45f2-8304-d2ad3dab4b28
X-WR-CALDESC:Pre-registration required!\n\nThe Native Plant Garden is looki
 ng beautiful these days\, but it is time to remove some weeds and invasive
  grasses. Join us for a small group work party in the garden.\n\nWe have a
  few new guidelines to follow:\n-Groups of 6: we will only allow 5 partici
 pants per walk\, please register ahead of time\n-Wear a mask\n-Social dist
 ancing will be maintained\n-If you have any symptoms of COVID-19 in the 3 
 weeks prior to the event\, we ask that you opt out\n-Respect other partici
 pants and their personal boundaries\n\nThis week we will meet at the Wenat
 chee River Institute parking lot at 8:30am. \n\nWhat to bring:\nmask\nwate
 r\nsnacks\nsunscreen/ sun protection clothing/ sunglasses\nsturdy shoes\ng
 loves
X-WR-RELCALID:844aa164d42bf268d0b26d2773f05309
X-WR-TIMEZONE:America/Los_Angeles
BEGIN:VTIMEZONE
TZID:America/Los_Angeles
BEGIN:STANDARD
TZNAME:PST
DTSTART:20191103T020000
TZOFFSETFROM:-0700
TZOFFSETTO:-0800
RDATE:20201101T020000
RDATE:20211107T020000
END:STANDARD
BEGIN:DAYLIGHT
TZNAME:PDT
DTSTART:20200308T020000
TZOFFSETFROM:-0800
TZOFFSETTO:-0700
RDATE:20210314T020000
END:DAYLIGHT
END:VTIMEZONE
BEGIN:VEVENT
UID:2dc91002-d214-416d-a04b-b73c6568eb9f
DTSTAMP:20260425T021007Z
DESCRIPTION:Pre-registration required!\n\nThe Native Plant Garden is lookin
 g beautiful these days\, but it is time to remove some weeds and invasive 
 grasses. Join us for a small group work party in the garden.\n\nWe have a 
 few new guidelines to follow:\n-Groups of 6: we will only allow 5 particip
 ants per walk\, please register ahead of time\n-Wear a mask\n-Social dista
 ncing will be maintained\n-If you have any symptoms of COVID-19 in the 3 w
 eeks prior to the event\, we ask that you opt out\n-Respect other particip
 ants and their personal boundaries\n\nThis week we will meet at the Wenatc
 hee River Institute parking lot at 8:30am. \n\nWhat to bring:\nmask\nwater
 \nsnacks\nsunscreen/ sun protection clothing/ sunglasses\nsturdy shoes\ngl
 oves
DTSTART;TZID=America/Los_Angeles:20200807T083000
DTEND;TZID=America/Los_Angeles:20200807T103000
LOCATION:Wenatchee River Institute
SUMMARY:Native Plant Garden Work Party
END:VEVENT
END:VCALENDAR
