BEGIN:VCALENDAR
VERSION:2.0
PRODID:-//wenatcheeriverinstitute.org//NONSGML kigkonsult.se iCalcreator 2.
 30.10//
CALSCALE:GREGORIAN
METHOD:PUBLISH
UID:5cefc3cc-419e-4b12-9741-5e02100718b9
X-WR-CALDESC:Fun in the Outdoors Camp (campers entering grades 1-6)\n\nWRI 
 is reimagining summer camps for 2020 as we adapt to COVID-19. Join small g
 roups of campers and Wenatchee River Institute staff for a new version of 
 camp! We will spend the days outdoors\, exploring Wenatchee River Institut
 e and the surrounding park\, leading us through forested habitats\, along 
 the river\, and through grassy meadows. Camp groups will investigate and l
 earn about the world around us\, play fun games\, walk along our riverfron
 t trail system\, and do art activities. Each week of camp will vary with n
 ew themes and activities\, while also including weekly favorites such as g
 ames of camouflage!  \n\nThis year’s summer camps will be dependent on Che
 lan County staying in at least Phase 1.5 in Safe Start WA. Increased socia
 l distancing and hygiene will be put in place. Campers will be placed into
  small groups by age. Each camp group will be based at different locations
  throughout our campus and will not interact. \n\nCamp will take place 10:
 00am-2:00pm daily. \n\nCamp cost: $125 WRI member\, $150 non-member. Full 
 and partial scholarships are available. Scholarship applications can be fo
 und on the main camps page. WRI Members\, enter the promo code OutdoorsMem
 ber2020 during registration to apply your discount!
X-WR-RELCALID:69984e59c46819656b67f61087183678
X-WR-TIMEZONE:America/Los_Angeles
BEGIN:VTIMEZONE
TZID:America/Los_Angeles
BEGIN:STANDARD
TZNAME:PST
DTSTART:20191103T020000
TZOFFSETFROM:-0700
TZOFFSETTO:-0800
RDATE:20201101T020000
RDATE:20211107T020000
END:STANDARD
BEGIN:DAYLIGHT
TZNAME:PDT
DTSTART:20200308T020000
TZOFFSETFROM:-0800
TZOFFSETTO:-0700
RDATE:20210314T020000
END:DAYLIGHT
END:VTIMEZONE
BEGIN:VEVENT
UID:1750c51b-065b-4ebb-8b23-083439764eba
DTSTAMP:20260425T021100Z
DESCRIPTION:Fun in the Outdoors Camp (campers entering grades 1-6)\n\nWRI i
 s reimagining summer camps for 2020 as we adapt to COVID-19. Join small gr
 oups of campers and Wenatchee River Institute staff for a new version of c
 amp! We will spend the days outdoors\, exploring Wenatchee River Institute
  and the surrounding park\, leading us through forested habitats\, along t
 he river\, and through grassy meadows. Camp groups will investigate and le
 arn about the world around us\, play fun games\, walk along our riverfront
  trail system\, and do art activities. Each week of camp will vary with ne
 w themes and activities\, while also including weekly favorites such as ga
 mes of camouflage!  \n\nThis year’s summer camps will be dependent on Chel
 an County staying in at least Phase 1.5 in Safe Start WA. Increased social
  distancing and hygiene will be put in place. Campers will be placed into 
 small groups by age. Each camp group will be based at different locations 
 throughout our campus and will not interact. \n\nCamp will take place 10:0
 0am-2:00pm daily. \n\nCamp cost: $125 WRI member\, $150 non-member. Full a
 nd partial scholarships are available. Scholarship applications can be fou
 nd on the main camps page. WRI Members\, enter the promo code OutdoorsMemb
 er2020 during registration to apply your discount!
DTSTART;TZID=America/Los_Angeles:20200810T100000
DTEND;TZID=America/Los_Angeles:20200814T140000
LOCATION:347 Division St\, Leavenworth\, WA\, 98826
SUMMARY:Fun in the Outdoors Camp (Grades 1-6)
END:VEVENT
END:VCALENDAR
