BEGIN:VCALENDAR
VERSION:2.0
PRODID:-//wenatcheeriverinstitute.org//NONSGML kigkonsult.se iCalcreator 2.
 30.10//
CALSCALE:GREGORIAN
METHOD:PUBLISH
UID:6a8a23ca-3b16-42cc-876e-dbe03d06b991
X-WR-CALDESC:Fall Camp: September 14 & 16 (Grade 2)\n12:00pm-5:00pm \n\nWha
 t:\nJoin small groups of campers and Wenatchee River Institute staff for a
  new version of camp! We will spend our afternoons outdoors\, exploring We
 natchee River Institute and the surrounding park\, leading us through fore
 sted habitats\, along the river\, and through grassy meadows. Participants
  will investigate and learn about the world around us\, play fun games\, a
 nd do art activities.   \n\nIf your camper needs to be in live school sess
 ions during camp time\, we can accommodate that.\n\nCost:\nWe are experime
 nting with a new fee structure for these camps: PAY WHAT YOU CAN. We know 
 that COVID has had a financial impact on many families\, and we hope this 
 makes camps as affordable as possible to all families. It is our hope that
  some families will have the ability to pay a little more to offset the co
 sts for families who are struggling financially. When you register\, there
  is a box to type in the amount you can pay.\n\nExtra Hours:\nAdditional c
 are hours are being offered to extend camp time one hour earlier and later
  for families who are interested. Pre-camp care will take place 11:00am-12
 :00pm and post-camp care will take place 5:00pm-6:00pm. The cost is $15 fo
 r pre-camp care and $15 for post-camp care. These can be added to your tic
 ket when you sign up.\n\nHow to Register:\nRegister for each week you’d li
 ke to attend. Registration for each week is found on the first listed day 
 of camp for the week.\n\nSafety Precautions:\nThe ability to offer these c
 amps will be dependent on Chelan County staying in at least Phase 1.5 in S
 afe Start WA. Increased social distancing and hygiene will be put in place
 . Camp will take place primarily outdoors\, and campers and staff will wea
 r masks. Each camp group will be based at different locations throughout o
 ur campus and will not interact.
X-WR-RELCALID:7b6ad94555e8ca2e30892103ecbef376
X-WR-TIMEZONE:America/Los_Angeles
BEGIN:VTIMEZONE
TZID:America/Los_Angeles
BEGIN:STANDARD
TZNAME:PST
DTSTART:20191103T020000
TZOFFSETFROM:-0700
TZOFFSETTO:-0800
RDATE:20201101T020000
RDATE:20211107T020000
END:STANDARD
BEGIN:DAYLIGHT
TZNAME:PDT
DTSTART:20200308T020000
TZOFFSETFROM:-0800
TZOFFSETTO:-0700
RDATE:20210314T020000
RDATE:20220313T020000
END:DAYLIGHT
END:VTIMEZONE
BEGIN:VEVENT
UID:652f3df0-66fb-4b3f-b41e-253da7b5a754
DTSTAMP:20260425T005109Z
DESCRIPTION:Fall Camp: September 14 & 16 (Grade 2)\n12:00pm-5:00pm \n\nWhat
 :\nJoin small groups of campers and Wenatchee River Institute staff for a 
 new version of camp! We will spend our afternoons outdoors\, exploring Wen
 atchee River Institute and the surrounding park\, leading us through fores
 ted habitats\, along the river\, and through grassy meadows. Participants 
 will investigate and learn about the world around us\, play fun games\, an
 d do art activities.   \n\nIf your camper needs to be in live school sessi
 ons during camp time\, we can accommodate that.\n\nCost:\nWe are experimen
 ting with a new fee structure for these camps: PAY WHAT YOU CAN. We know t
 hat COVID has had a financial impact on many families\, and we hope this m
 akes camps as affordable as possible to all families. It is our hope that 
 some families will have the ability to pay a little more to offset the cos
 ts for families who are struggling financially. When you register\, there 
 is a box to type in the amount you can pay.\n\nExtra Hours:\nAdditional ca
 re hours are being offered to extend camp time one hour earlier and later 
 for families who are interested. Pre-camp care will take place 11:00am-12:
 00pm and post-camp care will take place 5:00pm-6:00pm. The cost is $15 for
  pre-camp care and $15 for post-camp care. These can be added to your tick
 et when you sign up.\n\nHow to Register:\nRegister for each week you’d lik
 e to attend. Registration for each week is found on the first listed day o
 f camp for the week.\n\nSafety Precautions:\nThe ability to offer these ca
 mps will be dependent on Chelan County staying in at least Phase 1.5 in Sa
 fe Start WA. Increased social distancing and hygiene will be put in place.
  Camp will take place primarily outdoors\, and campers and staff will wear
  masks. Each camp group will be based at different locations throughout ou
 r campus and will not interact.
DTSTART;TZID=America/Los_Angeles:20200916T120000
DTEND;TZID=America/Los_Angeles:20200916T170000
LOCATION:347 Division St\, Leavenworth\, WA\, 98826
SUMMARY:Fall Camp: Sept 14 & 16 (Grade 2)
END:VEVENT
END:VCALENDAR
