BEGIN:VCALENDAR
VERSION:2.0
PRODID:-//wenatcheeriverinstitute.org//NONSGML kigkonsult.se iCalcreator 2.
 30.10//
CALSCALE:GREGORIAN
METHOD:PUBLISH
UID:16d7d640-bfbf-41b4-a97a-8bb42d84e45e
X-WR-CALDESC:Come join professional wildlife tracker\, naturalist\, and edu
 cator\, Marcus Reynerson of Cybertracker Conservation and the Wilderness A
 wareness School for an informative evening session on the fundamentals of 
 wildlife tracking. Over this session Marcus will share about the art and s
 cience of tracking and why it’s a valuable skill that deepens connection t
 o place and changes the way naturalists see the world. Q & A session throu
 ghout.\n\nFREE event\n\nZoom Instructions:\nYou are invited to a Zoom meet
 ing. \nWhen: Sep 29\, 2020 06:00 PM Pacific Time (US and Canada) \n\nRegis
 ter in advance for this meeting:\nhttps://zoom.us/meeting/register/tJYpceu
 orjgqE9C1MHp9prrXJNMD0H3UNDtz \n\nAfter registering\, you will receive a c
 onfirmation email containing information about joining the meeting.\n\nIns
 tructor Bio: \nMarcus is a naturalist\, educator\, facilitator\, and photo
 grapher. He has worked in wilderness education\, outdoor leadership\, and 
 conservation for numerous organizations and communities across North Ameri
 ca and Europe. He is engaged in telling stories that bring to light and li
 fe\, the complexity of humans living in the 21st century. Marcus currently
  lives in the Snoqualmie Valley in Washington State\, just east of Seattle
 . He is the Lead Instructor for an internationally renowned environmental 
 leadership immersion program for adults at the Wilderness Awareness School
  in Duvall\, WA\, and is also an evaluator with Cybertracker Conservation\
 , an organization dedicated to providing leading edge assessment and certi
 fication in the art and science of wildlife tracking across the globe.
X-WR-RELCALID:4b7ff07a41faeef0573d8f1c80be1674
X-WR-TIMEZONE:America/Los_Angeles
BEGIN:VTIMEZONE
TZID:America/Los_Angeles
BEGIN:STANDARD
TZNAME:PST
DTSTART:20191103T020000
TZOFFSETFROM:-0700
TZOFFSETTO:-0800
RDATE:20201101T020000
RDATE:20211107T020000
END:STANDARD
BEGIN:DAYLIGHT
TZNAME:PDT
DTSTART:20200308T020000
TZOFFSETFROM:-0800
TZOFFSETTO:-0700
RDATE:20210314T020000
RDATE:20220313T020000
END:DAYLIGHT
END:VTIMEZONE
BEGIN:VEVENT
UID:f60e4b6a-d062-49b4-b26f-7fecfa75d5ec
DTSTAMP:20260425T005548Z
DESCRIPTION:Come join professional wildlife tracker\, naturalist\, and educ
 ator\, Marcus Reynerson of Cybertracker Conservation and the Wilderness Aw
 areness School for an informative evening session on the fundamentals of w
 ildlife tracking. Over this session Marcus will share about the art and sc
 ience of tracking and why it’s a valuable skill that deepens connection to
  place and changes the way naturalists see the world. Q & A session throug
 hout.\n\nFREE event\n\nZoom Instructions:\nYou are invited to a Zoom meeti
 ng. \nWhen: Sep 29\, 2020 06:00 PM Pacific Time (US and Canada) \n\nRegist
 er in advance for this meeting:\nhttps://zoom.us/meeting/register/tJYpceuo
 rjgqE9C1MHp9prrXJNMD0H3UNDtz \n\nAfter registering\, you will receive a co
 nfirmation email containing information about joining the meeting.\n\nInst
 ructor Bio: \nMarcus is a naturalist\, educator\, facilitator\, and photog
 rapher. He has worked in wilderness education\, outdoor leadership\, and c
 onservation for numerous organizations and communities across North Americ
 a and Europe. He is engaged in telling stories that bring to light and lif
 e\, the complexity of humans living in the 21st century. Marcus currently 
 lives in the Snoqualmie Valley in Washington State\, just east of Seattle.
  He is the Lead Instructor for an internationally renowned environmental l
 eadership immersion program for adults at the Wilderness Awareness School 
 in Duvall\, WA\, and is also an evaluator with Cybertracker Conservation\,
  an organization dedicated to providing leading edge assessment and certif
 ication in the art and science of wildlife tracking across the globe.
DTSTART;TZID=America/Los_Angeles:20200929T180000
DTEND;TZID=America/Los_Angeles:20200929T191500
LOCATION:Virtual
SUMMARY:The World of Wildlife Tracking
END:VEVENT
END:VCALENDAR
