BEGIN:VCALENDAR
VERSION:2.0
PRODID:-//wenatcheeriverinstitute.org//NONSGML kigkonsult.se iCalcreator 2.
 30.10//
CALSCALE:GREGORIAN
METHOD:PUBLISH
UID:a160e3f9-f3f7-4ab6-be57-3eed75710e25
X-WR-CALDESC:Fall Camp: October 5 & 7 (Grades K-5)\n12:00pm-5:00pm \n\nWhat
 :\nJoin small groups of campers and Wenatchee River Institute staff for a 
 new version of camp! We will spend our afternoons outdoors\, exploring Wen
 atchee River Institute and the surrounding park\, leading us through fores
 ted habitats\, along the river\, and through grassy meadows. Participants 
 will investigate and learn about the world around us\, play fun games\, an
 d do art activities. Campers will be divided into groups based on ages (ag
 e divisions will depend on ages of campers each week).\n\nIf your camper n
 eeds to be in live school sessions during camp time\, we can accommodate t
 hat.\n\nCost:\nWe are experimenting with a new fee structure for these cam
 ps: PAY WHAT YOU CAN. We know that COVID has had a financial impact on man
 y families\, and we hope this makes camps as affordable as possible to all
  families. It is our hope that some families will have the ability to pay 
 a little more to offset the costs for families who are struggling financia
 lly. When you register\, there is a box to type in the amount you can pay.
 \n\nExtra Hours:\nAdditional care hours are being offered to extend camp t
 ime one hour earlier and later for families who are interested. Pre-camp c
 are will take place 11:00am-12:00pm and post-camp care will take place 5:0
 0pm-6:00pm. The cost is $15 for pre-camp care and $15 for post-camp care. 
 These can be added to your ticket when you sign up.\n\nHow to Register:\nR
 egister for each week you’d like to attend. Registration for each week is 
 found on the first listed day of camp for the week.\n\nSafety Precautions:
 \nThe ability to offer these camps will be dependent on Chelan County stay
 ing in at least Phase 1.5 in Safe Start WA. Increased social distancing an
 d hygiene will be put in place. Camp will take place primarily outdoors\, 
 and campers and staff will wear masks. Each camp group will be based at di
 fferent locations throughout our campus and will not interact.
X-WR-RELCALID:04f460792d9b7632ff85d23350dbe1e9
X-WR-TIMEZONE:America/Los_Angeles
BEGIN:VTIMEZONE
TZID:America/Los_Angeles
BEGIN:STANDARD
TZNAME:PST
DTSTART:20191103T020000
TZOFFSETFROM:-0700
TZOFFSETTO:-0800
RDATE:20201101T020000
RDATE:20211107T020000
END:STANDARD
BEGIN:DAYLIGHT
TZNAME:PDT
DTSTART:20200308T020000
TZOFFSETFROM:-0800
TZOFFSETTO:-0700
RDATE:20210314T020000
RDATE:20220313T020000
END:DAYLIGHT
END:VTIMEZONE
BEGIN:VEVENT
UID:44366cd5-ba12-4c55-b454-43b3558df86a
DTSTAMP:20260424T231138Z
DESCRIPTION:Fall Camp: October 5 & 7 (Grades K-5)\n12:00pm-5:00pm \n\nWhat:
 \nJoin small groups of campers and Wenatchee River Institute staff for a n
 ew version of camp! We will spend our afternoons outdoors\, exploring Wena
 tchee River Institute and the surrounding park\, leading us through forest
 ed habitats\, along the river\, and through grassy meadows. Participants w
 ill investigate and learn about the world around us\, play fun games\, and
  do art activities. Campers will be divided into groups based on ages (age
  divisions will depend on ages of campers each week).\n\nIf your camper ne
 eds to be in live school sessions during camp time\, we can accommodate th
 at.\n\nCost:\nWe are experimenting with a new fee structure for these camp
 s: PAY WHAT YOU CAN. We know that COVID has had a financial impact on many
  families\, and we hope this makes camps as affordable as possible to all 
 families. It is our hope that some families will have the ability to pay a
  little more to offset the costs for families who are struggling financial
 ly. When you register\, there is a box to type in the amount you can pay.
 \n\nExtra Hours:\nAdditional care hours are being offered to extend camp t
 ime one hour earlier and later for families who are interested. Pre-camp c
 are will take place 11:00am-12:00pm and post-camp care will take place 5:0
 0pm-6:00pm. The cost is $15 for pre-camp care and $15 for post-camp care. 
 These can be added to your ticket when you sign up.\n\nHow to Register:\nR
 egister for each week you’d like to attend. Registration for each week is 
 found on the first listed day of camp for the week.\n\nSafety Precautions:
 \nThe ability to offer these camps will be dependent on Chelan County stay
 ing in at least Phase 1.5 in Safe Start WA. Increased social distancing an
 d hygiene will be put in place. Camp will take place primarily outdoors\, 
 and campers and staff will wear masks. Each camp group will be based at di
 fferent locations throughout our campus and will not interact.
DTSTART;TZID=America/Los_Angeles:20201005T120000
DTEND;TZID=America/Los_Angeles:20201005T170000
LOCATION:347 Division St\, Leavenworth\, WA\, 98826
SUMMARY:Fall Camp: Oct 5 & 7 (Grades K-5)
END:VEVENT
END:VCALENDAR
