BEGIN:VCALENDAR
VERSION:2.0
PRODID:-//wenatcheeriverinstitute.org//NONSGML kigkonsult.se iCalcreator 2.
 30.10//
CALSCALE:GREGORIAN
METHOD:PUBLISH
UID:8848d605-7b35-49c3-88d3-a8fa6a0be8d9
X-WR-CALDESC:Make a difference by cleaning up our local waterway. The river
  level will be rising will soon to come fall rains. Let's clean up the tra
 sh before it heads down river.\n\nJoin us Thursday\, October 15th 4pm-6pm.
  We will be socially distanced\, masks will be worn when in close proximit
 y to each other\, and garbage bags will be provided. Please bring your own
  pair of gloves.\n\nNo registration required.
X-WR-RELCALID:87d846e3d89cab4b0fd70b9efbd608dc
X-WR-TIMEZONE:America/Los_Angeles
BEGIN:VTIMEZONE
TZID:America/Los_Angeles
BEGIN:STANDARD
TZNAME:PST
DTSTART:20191103T020000
TZOFFSETFROM:-0700
TZOFFSETTO:-0800
RDATE:20201101T020000
RDATE:20211107T020000
END:STANDARD
BEGIN:DAYLIGHT
TZNAME:PDT
DTSTART:20200308T020000
TZOFFSETFROM:-0800
TZOFFSETTO:-0700
RDATE:20210314T020000
RDATE:20220313T020000
END:DAYLIGHT
END:VTIMEZONE
BEGIN:VEVENT
UID:2e737086-80a5-4b84-b0fc-34b06c433bb8
DTSTAMP:20260424T231143Z
DESCRIPTION:Make a difference by cleaning up our local waterway. The river 
 level will be rising will soon to come fall rains. Let's clean up the tras
 h before it heads down river.\n\nJoin us Thursday\, October 15th 4pm-6pm. 
 We will be socially distanced\, masks will be worn when in close proximity
  to each other\, and garbage bags will be provided. Please bring your own 
 pair of gloves.\n\nNo registration required.
DTSTART;TZID=America/Los_Angeles:20201015T160000
DTEND;TZID=America/Los_Angeles:20201015T180000
LOCATION:Wenatchee River Institute
SUMMARY:Wenatchee River Cleanup
END:VEVENT
END:VCALENDAR
