BEGIN:VCALENDAR
VERSION:2.0
PRODID:-//wenatcheeriverinstitute.org//NONSGML kigkonsult.se iCalcreator 2.
 30.10//
CALSCALE:GREGORIAN
METHOD:PUBLISH
UID:c8df07b4-e6c4-4eb6-beb4-62a28bdbf2e5
X-WR-CALDESC:Fall Camp: October 19 & 21 (Grades K-5)\n12:00pm-5:00pm \n\nWh
 at:\nJoin small groups of campers and Wenatchee River Institute staff for 
 a new version of camp! We will spend our afternoons outdoors\, exploring W
 enatchee River Institute and the surrounding park\, leading us through for
 ested habitats\, along the river\, and through grassy meadows. Participant
 s will investigate and learn about the world around us\, play fun games\, 
 and do art activities. Campers will be divided into groups based on ages (
 age divisions will depend on ages of campers each week).\n\nIf your camper
  needs to be in live school sessions during camp time\, we can accommodate
  that.\n\nCost:\nWe are experimenting with a new fee structure for these c
 amps: PAY WHAT YOU CAN. We know that COVID has had a financial impact on m
 any families\, and we hope this makes camps as affordable as possible to a
 ll families. It is our hope that some families will have the ability to pa
 y a little more to offset the costs for families who are struggling financ
 ially. When you register\, there is a box to type in the amount you can pa
 y.\n\nExtra Hours:\nAdditional care hours are being offered to extend camp
  time one hour earlier and later for families who are interested. Pre-camp
  care will take place 11:00am-12:00pm and post-camp care will take place 5
 :00pm-6:00pm. The cost is $15 for pre-camp care and $15 for post-camp care
 . These can be added to your ticket when you sign up.\n\nHow to Register:
 \nRegister for each week you’d like to attend. Registration for each week 
 is found on the first listed day of camp for the week.\n\nSafety Precautio
 ns:\nThe ability to offer these camps will be dependent on Chelan County s
 taying in at least Phase 1.5 in Safe Start WA. Increased social distancing
  and hygiene will be put in place. Camp will take place primarily outdoors
 \, and campers and staff will wear masks. Each camp group will be based at
  different locations throughout our campus and will not interact.\n\n[Espa
 ñol] \nQué:\n¡Únase a pequeños grupos de campistas y al personal del Wenat
 chee River Institute para una nueva versión del campamento! Pasaremos nues
 tras tardes al aire libre\, explorando\, guiándonos a través de hábitats b
 oscosos\, a lo largo del río y a través de prados cubiertos de hierba.\n\n
 Costo:\nPAGUE LO QUE PUEDA. Sabemos que COVID ha tenido un impacto financi
 ero en muchas familias y esperamos que esto haga que los campamentos sean 
 lo más asequibles posible para todas las familias. Cuando se registra\, ha
 y un cuadro para escribir la cantidad que puede pagar.\n\nExtra horas:\nSe
  ofrecen horas de atención adicionales para extender el tiempo de campamen
 to una hora antes y más tarde para las familias interesadas. La atención p
 revia al campamento (11am-12pm) y la posterior al campamento (5pm-6pm). El
  costo es $15 para la atención previa al campamento y $15 para la atención
  posterior al campamento. Estos se pueden agregar a su boleto cuando se re
 gistre.\n\nCómo registrarse:\nRegístrese para cada semana a la que le gust
 aría asistir. La inscripción para cada semana se encuentra en el primer dí
 a de campamento de la semana indicado.\n\nPrecauciones de seguridad:\nLa c
 apacidad de ofrecer estos campamentos dependerá de que el condado de Chela
 n permanezca en al menos la Fase 1.5 en Safe Start WA. Se implantará un ma
 yor distanciamiento social e higiene. El campamento se llevará a cabo prin
 cipalmente al aire libre y los campistas y el personal usarán máscaras. Ca
 da grupo de campamento se basará en diferentes lugares de nuestro campus y
  no interactuará.
X-WR-RELCALID:87a8f3e9f2207767812329459938847a
X-WR-TIMEZONE:America/Los_Angeles
BEGIN:VTIMEZONE
TZID:America/Los_Angeles
BEGIN:STANDARD
TZNAME:PST
DTSTART:20191103T020000
TZOFFSETFROM:-0700
TZOFFSETTO:-0800
RDATE:20201101T020000
RDATE:20211107T020000
END:STANDARD
BEGIN:DAYLIGHT
TZNAME:PDT
DTSTART:20200308T020000
TZOFFSETFROM:-0800
TZOFFSETTO:-0700
RDATE:20210314T020000
RDATE:20220313T020000
END:DAYLIGHT
END:VTIMEZONE
BEGIN:VEVENT
UID:5b3cf542-6cef-4938-a66c-ee4f0c279523
DTSTAMP:20260424T231833Z
DESCRIPTION:Fall Camp: October 19 & 21 (Grades K-5)\n12:00pm-5:00pm \n\nWha
 t:\nJoin small groups of campers and Wenatchee River Institute staff for a
  new version of camp! We will spend our afternoons outdoors\, exploring We
 natchee River Institute and the surrounding park\, leading us through fore
 sted habitats\, along the river\, and through grassy meadows. Participants
  will investigate and learn about the world around us\, play fun games\, a
 nd do art activities. Campers will be divided into groups based on ages (a
 ge divisions will depend on ages of campers each week).\n\nIf your camper 
 needs to be in live school sessions during camp time\, we can accommodate 
 that.\n\nCost:\nWe are experimenting with a new fee structure for these ca
 mps: PAY WHAT YOU CAN. We know that COVID has had a financial impact on ma
 ny families\, and we hope this makes camps as affordable as possible to al
 l families. It is our hope that some families will have the ability to pay
  a little more to offset the costs for families who are struggling financi
 ally. When you register\, there is a box to type in the amount you can pay
 .\n\nExtra Hours:\nAdditional care hours are being offered to extend camp 
 time one hour earlier and later for families who are interested. Pre-camp 
 care will take place 11:00am-12:00pm and post-camp care will take place 5:
 00pm-6:00pm. The cost is $15 for pre-camp care and $15 for post-camp care.
  These can be added to your ticket when you sign up.\n\nHow to Register:\n
 Register for each week you’d like to attend. Registration for each week is
  found on the first listed day of camp for the week.\n\nSafety Precautions
 :\nThe ability to offer these camps will be dependent on Chelan County sta
 ying in at least Phase 1.5 in Safe Start WA. Increased social distancing a
 nd hygiene will be put in place. Camp will take place primarily outdoors\,
  and campers and staff will wear masks. Each camp group will be based at d
 ifferent locations throughout our campus and will not interact.\n\n[Españo
 l] \nQué:\n¡Únase a pequeños grupos de campistas y al personal del Wenatch
 ee River Institute para una nueva versión del campamento! Pasaremos nuestr
 as tardes al aire libre\, explorando\, guiándonos a través de hábitats bos
 cosos\, a lo largo del río y a través de prados cubiertos de hierba.\n\nCo
 sto:\nPAGUE LO QUE PUEDA. Sabemos que COVID ha tenido un impacto financier
 o en muchas familias y esperamos que esto haga que los campamentos sean lo
  más asequibles posible para todas las familias. Cuando se registra\, hay 
 un cuadro para escribir la cantidad que puede pagar.\n\nExtra horas:\nSe o
 frecen horas de atención adicionales para extender el tiempo de campamento
  una hora antes y más tarde para las familias interesadas. La atención pre
 via al campamento (11am-12pm) y la posterior al campamento (5pm-6pm). El c
 osto es $15 para la atención previa al campamento y $15 para la atención p
 osterior al campamento. Estos se pueden agregar a su boleto cuando se regi
 stre.\n\nCómo registrarse:\nRegístrese para cada semana a la que le gustar
 ía asistir. La inscripción para cada semana se encuentra en el primer día 
 de campamento de la semana indicado.\n\nPrecauciones de seguridad:\nLa cap
 acidad de ofrecer estos campamentos dependerá de que el condado de Chelan 
 permanezca en al menos la Fase 1.5 en Safe Start WA. Se implantará un mayo
 r distanciamiento social e higiene. El campamento se llevará a cabo princi
 palmente al aire libre y los campistas y el personal usarán máscaras. Cada
  grupo de campamento se basará en diferentes lugares de nuestro campus y n
 o interactuará.
DTSTART;TZID=America/Los_Angeles:20201019T120000
DTEND;TZID=America/Los_Angeles:20201019T170000
LOCATION:347 Division St\, Leavenworth\, WA\, 98826
SUMMARY:Fall Camp/Campamento de Otoño: Oct 19 & 21 (Grades K-5)
END:VEVENT
END:VCALENDAR
