BEGIN:VCALENDAR
VERSION:2.0
PRODID:-//wenatcheeriverinstitute.org//NONSGML kigkonsult.se iCalcreator 2.
 30.10//
CALSCALE:GREGORIAN
METHOD:PUBLISH
UID:e15aa5cb-976e-469a-b8cc-728f350d40ba
X-WR-CALDESC:Fall Camp: October 19 & 21 (Grades K-5)\n12:00pm-5:00pm \n\nWh
 at:\nJoin small groups of campers and Wenatchee River Institute staff for 
 a new version of camp! We will spend our afternoons outdoors\, exploring W
 enatchee River Institute and the surrounding park\, leading us through for
 ested habitats\, along the river\, and through grassy meadows. Participant
 s will investigate and learn about the world around us\, play fun games\, 
 and do art activities. Campers will be divided into groups based on ages (
 age divisions will depend on ages of campers each week).\n\nIf your camper
  needs to be in live school sessions during camp time\, we can accommodate
  that.\n\nCost:\nWe are experimenting with a new fee structure for these c
 amps: PAY WHAT YOU CAN. We know that COVID has had a financial impact on m
 any families\, and we hope this makes camps as affordable as possible to a
 ll families. It is our hope that some families will have the ability to pa
 y a little more to offset the costs for families who are struggling financ
 ially. When you register\, there is a box to type in the amount you can pa
 y.\n\nExtra Hours:\nAdditional care hours are being offered to extend camp
  time one hour earlier and later for families who are interested. Pre-camp
  care will take place 11:00am-12:00pm and post-camp care will take place 5
 :00pm-6:00pm. The cost is $15 for pre-camp care and $15 for post-camp care
 . These can be added to your ticket when you sign up.\n\nHow to Register:
 \nRegister for each week you’d like to attend. Registration for each week 
 is found on the first listed day of camp for the week.\n\nSafety Precautio
 ns:\nThe ability to offer these camps will be dependent on Chelan County s
 taying in at least Phase 1.5 in Safe Start WA. Increased social distancing
  and hygiene will be put in place. Camp will take place primarily outdoors
 \, and campers and staff will wear masks. Each camp group will be based at
  different locations throughout our campus and will not interact.
X-WR-RELCALID:e4dab2a6be194005f0e4fab72da1d7eb
X-WR-TIMEZONE:America/Los_Angeles
BEGIN:VTIMEZONE
TZID:America/Los_Angeles
BEGIN:STANDARD
TZNAME:PST
DTSTART:20191103T020000
TZOFFSETFROM:-0700
TZOFFSETTO:-0800
RDATE:20201101T020000
RDATE:20211107T020000
END:STANDARD
BEGIN:DAYLIGHT
TZNAME:PDT
DTSTART:20200308T020000
TZOFFSETFROM:-0800
TZOFFSETTO:-0700
RDATE:20210314T020000
RDATE:20220313T020000
END:DAYLIGHT
END:VTIMEZONE
BEGIN:VEVENT
UID:1e89f6ed-f57b-4cd8-bcca-574eda8773c6
DTSTAMP:20260424T231138Z
DESCRIPTION:Fall Camp: October 19 & 21 (Grades K-5)\n12:00pm-5:00pm \n\nWha
 t:\nJoin small groups of campers and Wenatchee River Institute staff for a
  new version of camp! We will spend our afternoons outdoors\, exploring We
 natchee River Institute and the surrounding park\, leading us through fore
 sted habitats\, along the river\, and through grassy meadows. Participants
  will investigate and learn about the world around us\, play fun games\, a
 nd do art activities. Campers will be divided into groups based on ages (a
 ge divisions will depend on ages of campers each week).\n\nIf your camper 
 needs to be in live school sessions during camp time\, we can accommodate 
 that.\n\nCost:\nWe are experimenting with a new fee structure for these ca
 mps: PAY WHAT YOU CAN. We know that COVID has had a financial impact on ma
 ny families\, and we hope this makes camps as affordable as possible to al
 l families. It is our hope that some families will have the ability to pay
  a little more to offset the costs for families who are struggling financi
 ally. When you register\, there is a box to type in the amount you can pay
 .\n\nExtra Hours:\nAdditional care hours are being offered to extend camp 
 time one hour earlier and later for families who are interested. Pre-camp 
 care will take place 11:00am-12:00pm and post-camp care will take place 5:
 00pm-6:00pm. The cost is $15 for pre-camp care and $15 for post-camp care.
  These can be added to your ticket when you sign up.\n\nHow to Register:\n
 Register for each week you’d like to attend. Registration for each week is
  found on the first listed day of camp for the week.\n\nSafety Precautions
 :\nThe ability to offer these camps will be dependent on Chelan County sta
 ying in at least Phase 1.5 in Safe Start WA. Increased social distancing a
 nd hygiene will be put in place. Camp will take place primarily outdoors\,
  and campers and staff will wear masks. Each camp group will be based at d
 ifferent locations throughout our campus and will not interact.
DTSTART;TZID=America/Los_Angeles:20201021T120000
DTEND;TZID=America/Los_Angeles:20201021T170000
LOCATION:347 Division St\, Leavenworth\, WA\, 98826
SUMMARY:Fall Camp: Oct 19 & 21 (Grades K-5)
END:VEVENT
END:VCALENDAR
