BEGIN:VCALENDAR
VERSION:2.0
PRODID:-//wenatcheeriverinstitute.org//NONSGML kigkonsult.se iCalcreator 2.
 30.10//
CALSCALE:GREGORIAN
METHOD:PUBLISH
UID:308aee7c-3ed3-4bc1-8c7f-eaeab3e17d57
X-WR-CALDESC:Fall Camp: November 2 & 4 (Grades K-5)\n12:00pm-5:00pm \n\nWha
 t:\nJoin small groups of campers and Wenatchee River Institute staff for a
  new version of camp! We will spend our afternoons outdoors\, exploring We
 natchee River Institute and the surrounding park\, leading us through fore
 sted habitats\, along the river\, and through grassy meadows. Participants
  will investigate and learn about the world around us\, play fun games\, a
 nd do art activities. Campers will be divided into groups based on ages (a
 ge divisions will depend on ages of campers each week).\n\nIf your camper 
 needs to be in live school sessions during camp time\, we can accommodate 
 that.\n\nCost:\nWe are experimenting with a new fee structure for these ca
 mps: PAY WHAT YOU CAN. We know that COVID has had a financial impact on ma
 ny families\, and we hope this makes camps as affordable as possible to al
 l families. It is our hope that some families will have the ability to pay
  a little more to offset the costs for families who are struggling financi
 ally. When you register\, there is a box to type in the amount you can pay
 .\n\nExtra Hours:\nAdditional care hours are being offered to extend camp 
 time one hour earlier and later for families who are interested. Pre-camp 
 care will take place 11:00am-12:00pm and post-camp care will take place 5:
 00pm-6:00pm. The cost is $15 for pre-camp care and $15 for post-camp care.
  These can be added to your ticket when you sign up.\n\nHow to Register:\n
 Register for each week you’d like to attend. Registration for each week is
  found on the first listed day of camp for the week.\n\nSafety Precautions
 :\nThe ability to offer these camps will be dependent on Chelan County sta
 ying in at least Phase 1.5 in Safe Start WA. Increased social distancing a
 nd hygiene will be put in place. Camp will take place primarily outdoors\,
  and campers and staff will wear masks. Each camp group will be based at d
 ifferent locations throughout our campus and will not interact.\n\n[Españo
 l]\nQué:\n¡Únase a pequeños grupos de campistas y al personal del Wenatche
 e River Institute para una nueva versión del campamento! Pasaremos nuestra
 s tardes al aire libre\, explorando\, guiándonos a través de hábitats bosc
 osos\, a lo largo del río y a través de prados cubiertos de hierba.\n\nCos
 to:\nPAGUE LO QUE PUEDA. Sabemos que COVID ha tenido un impacto financiero
  en muchas familias y esperamos que esto haga que los campamentos sean lo 
 más asequibles posible para todas las familias. Cuando se registra\, hay u
 n cuadro para escribir la cantidad que puede pagar.\n\nExtra horas:\nSe of
 recen horas de atención adicionales para extender el tiempo de campamento 
 una hora antes y más tarde para las familias interesadas. La atención prev
 ia al campamento (11am-12pm) y la posterior al campamento (5pm-6pm). El co
 sto es $15 para la atención previa al campamento y $15 para la atención po
 sterior al campamento. Estos se pueden agregar a su boleto cuando se regis
 tre.\n\nCómo registrarse:\nRegístrese para cada semana a la que le gustarí
 a asistir. La inscripción para cada semana se encuentra en el primer día d
 e campamento de la semana indicado.\n\nPrecauciones de seguridad:\nLa capa
 cidad de ofrecer estos campamentos dependerá de que el condado de Chelan p
 ermanezca en al menos la Fase 1.5 en Safe Start WA. Se implantará un mayor
  distanciamiento social e higiene. El campamento se llevará a cabo princip
 almente al aire libre y los campistas y el personal usarán máscaras. Cada 
 grupo de campamento se basará en diferentes lugares de nuestro campus y no
  interactuará.
X-WR-RELCALID:b6204d3756b9817b4da62c8cf46a722a
X-WR-TIMEZONE:America/Los_Angeles
BEGIN:VTIMEZONE
TZID:America/Los_Angeles
BEGIN:STANDARD
TZNAME:PST
DTSTART:20191103T020000
TZOFFSETFROM:-0700
TZOFFSETTO:-0800
RDATE:20201101T020000
RDATE:20211107T020000
END:STANDARD
BEGIN:DAYLIGHT
TZNAME:PDT
DTSTART:20200308T020000
TZOFFSETFROM:-0800
TZOFFSETTO:-0700
RDATE:20210314T020000
RDATE:20220313T020000
END:DAYLIGHT
END:VTIMEZONE
BEGIN:VEVENT
UID:22c5ce89-f7f5-42bd-a008-351bb0f2e44b
DTSTAMP:20260424T214309Z
DESCRIPTION:Fall Camp: November 2 & 4 (Grades K-5)\n12:00pm-5:00pm \n\nWhat
 :\nJoin small groups of campers and Wenatchee River Institute staff for a 
 new version of camp! We will spend our afternoons outdoors\, exploring Wen
 atchee River Institute and the surrounding park\, leading us through fores
 ted habitats\, along the river\, and through grassy meadows. Participants 
 will investigate and learn about the world around us\, play fun games\, an
 d do art activities. Campers will be divided into groups based on ages (ag
 e divisions will depend on ages of campers each week).\n\nIf your camper n
 eeds to be in live school sessions during camp time\, we can accommodate t
 hat.\n\nCost:\nWe are experimenting with a new fee structure for these cam
 ps: PAY WHAT YOU CAN. We know that COVID has had a financial impact on man
 y families\, and we hope this makes camps as affordable as possible to all
  families. It is our hope that some families will have the ability to pay 
 a little more to offset the costs for families who are struggling financia
 lly. When you register\, there is a box to type in the amount you can pay.
 \n\nExtra Hours:\nAdditional care hours are being offered to extend camp t
 ime one hour earlier and later for families who are interested. Pre-camp c
 are will take place 11:00am-12:00pm and post-camp care will take place 5:0
 0pm-6:00pm. The cost is $15 for pre-camp care and $15 for post-camp care. 
 These can be added to your ticket when you sign up.\n\nHow to Register:\nR
 egister for each week you’d like to attend. Registration for each week is 
 found on the first listed day of camp for the week.\n\nSafety Precautions:
 \nThe ability to offer these camps will be dependent on Chelan County stay
 ing in at least Phase 1.5 in Safe Start WA. Increased social distancing an
 d hygiene will be put in place. Camp will take place primarily outdoors\, 
 and campers and staff will wear masks. Each camp group will be based at di
 fferent locations throughout our campus and will not interact.\n\n[Español
 ]\nQué:\n¡Únase a pequeños grupos de campistas y al personal del Wenatchee
  River Institute para una nueva versión del campamento! Pasaremos nuestras
  tardes al aire libre\, explorando\, guiándonos a través de hábitats bosco
 sos\, a lo largo del río y a través de prados cubiertos de hierba.\n\nCost
 o:\nPAGUE LO QUE PUEDA. Sabemos que COVID ha tenido un impacto financiero 
 en muchas familias y esperamos que esto haga que los campamentos sean lo m
 ás asequibles posible para todas las familias. Cuando se registra\, hay un
  cuadro para escribir la cantidad que puede pagar.\n\nExtra horas:\nSe ofr
 ecen horas de atención adicionales para extender el tiempo de campamento u
 na hora antes y más tarde para las familias interesadas. La atención previ
 a al campamento (11am-12pm) y la posterior al campamento (5pm-6pm). El cos
 to es $15 para la atención previa al campamento y $15 para la atención pos
 terior al campamento. Estos se pueden agregar a su boleto cuando se regist
 re.\n\nCómo registrarse:\nRegístrese para cada semana a la que le gustaría
  asistir. La inscripción para cada semana se encuentra en el primer día de
  campamento de la semana indicado.\n\nPrecauciones de seguridad:\nLa capac
 idad de ofrecer estos campamentos dependerá de que el condado de Chelan pe
 rmanezca en al menos la Fase 1.5 en Safe Start WA. Se implantará un mayor 
 distanciamiento social e higiene. El campamento se llevará a cabo principa
 lmente al aire libre y los campistas y el personal usarán máscaras. Cada g
 rupo de campamento se basará en diferentes lugares de nuestro campus y no 
 interactuará.
DTSTART;TZID=America/Los_Angeles:20201102T120000
DTEND;TZID=America/Los_Angeles:20201102T170000
LOCATION:347 Division St\, Leavenworth\, WA\, 98826
SUMMARY:Fall Camp / Campamento de Otoño: Nov 2 & 4 (Grades K-5)
END:VEVENT
END:VCALENDAR
