BEGIN:VCALENDAR
VERSION:2.0
PRODID:-//wenatcheeriverinstitute.org//NONSGML kigkonsult.se iCalcreator 2.
 30.10//
CALSCALE:GREGORIAN
METHOD:PUBLISH
UID:9a36940b-d4c3-48f8-8d15-550896e2842c
X-WR-CALDESC:To sign up for this event\, head to http://writeontheriver.wil
 dapricot.org/event-4012806\n\nThank you for supporting the Wenatchee River
  Institute mission!
X-WR-RELCALID:3c523201c980c87a412e154aae665c47
X-WR-TIMEZONE:America/Los_Angeles
BEGIN:VTIMEZONE
TZID:America/Los_Angeles
BEGIN:STANDARD
TZNAME:PST
DTSTART:20201101T020000
TZOFFSETFROM:-0700
TZOFFSETTO:-0800
RDATE:20211107T020000
END:STANDARD
BEGIN:DAYLIGHT
TZNAME:PDT
DTSTART:20200308T020000
TZOFFSETFROM:-0800
TZOFFSETTO:-0700
RDATE:20210314T020000
RDATE:20220313T020000
END:DAYLIGHT
END:VTIMEZONE
BEGIN:VEVENT
UID:6b846f7d-5564-4d23-b261-57135baff1ab
DTSTAMP:20260424T213019Z
DESCRIPTION:To sign up for this event\, head to http://writeontheriver.wild
 apricot.org/event-4012806\n\nThank you for supporting the Wenatchee River 
 Institute mission!
DTSTART;TZID=America/Los_Angeles:20201107T090000
DTEND;TZID=America/Los_Angeles:20201107T120000
LOCATION:Virtual via Zoom
SUMMARY:Nature Writing Workshop
END:VEVENT
END:VCALENDAR
