BEGIN:VCALENDAR
VERSION:2.0
PRODID:-//wenatcheeriverinstitute.org//NONSGML kigkonsult.se iCalcreator 2.
 30.10//
CALSCALE:GREGORIAN
METHOD:PUBLISH
UID:a520c73e-15be-421e-baee-1dae29e12361
X-WR-CALDESC:
X-WR-RELCALID:77be64ad94b05bed11116e211ff23e13
X-WR-TIMEZONE:America/Los_Angeles
BEGIN:VTIMEZONE
TZID:America/Los_Angeles
BEGIN:STANDARD
TZNAME:PST
DTSTART:20201101T020000
TZOFFSETFROM:-0700
TZOFFSETTO:-0800
RDATE:20211107T020000
END:STANDARD
BEGIN:DAYLIGHT
TZNAME:PDT
DTSTART:20200308T020000
TZOFFSETFROM:-0800
TZOFFSETTO:-0700
RDATE:20210314T020000
RDATE:20220313T020000
END:DAYLIGHT
END:VTIMEZONE
BEGIN:VEVENT
UID:84acd0a5-cbaa-4ef4-9b5a-1ba52796b5c1
DTSTAMP:20260424T213814Z
DESCRIPTION:
DTSTART;TZID=America/Los_Angeles:20201123T000000
DTEND;TZID=America/Los_Angeles:20201127T235900
LOCATION:
SUMMARY:No Fall Camp This Week
END:VEVENT
END:VCALENDAR
