BEGIN:VCALENDAR
VERSION:2.0
PRODID:-//wenatcheeriverinstitute.org//NONSGML kigkonsult.se iCalcreator 2.
 30.10//
CALSCALE:GREGORIAN
METHOD:PUBLISH
UID:fe8d9522-440d-41fc-867a-06914d31894e
X-WR-CALDESC:In honor of Black History Month\, join noted writer and ornith
 ologist\, Dr. Drew Lanham\, along with Derek Sheffield and Dr. Joan Qazi a
 nd other members of the WVC Sustainability Committee\, for a reading and c
 onversation on the many intersections between race and the environment dur
 ing this species moment when the life of the planet hinges on the decision
 s we make today.\n\nClick the link above to register. Registration require
 d.
X-WR-RELCALID:b79201696755f5ed4b2e1352252a739e
X-WR-TIMEZONE:America/Los_Angeles
BEGIN:VTIMEZONE
TZID:America/Los_Angeles
BEGIN:STANDARD
TZNAME:PST
DTSTART:20201101T020000
TZOFFSETFROM:-0700
TZOFFSETTO:-0800
RDATE:20211107T020000
END:STANDARD
BEGIN:DAYLIGHT
TZNAME:PDT
DTSTART:20200308T020000
TZOFFSETFROM:-0800
TZOFFSETTO:-0700
RDATE:20210314T020000
RDATE:20220313T020000
END:DAYLIGHT
END:VTIMEZONE
BEGIN:VEVENT
UID:d92f143c-4654-4b31-b194-86c5baadb1e2
DTSTAMP:20260424T170450Z
DESCRIPTION:In honor of Black History Month\, join noted writer and ornitho
 logist\, Dr. Drew Lanham\, along with Derek Sheffield and Dr. Joan Qazi an
 d other members of the WVC Sustainability Committee\, for a reading and co
 nversation on the many intersections between race and the environment duri
 ng this species moment when the life of the planet hinges on the decisions
  we make today.\n\nClick the link above to register. Registration required
 .
DTSTART;TZID=America/Los_Angeles:20210218T130000
DTEND;TZID=America/Los_Angeles:20210218T140000
LOCATION:https://wvc.zoom.us/webinar/register/WN_SNm5Ju9hTOyIgCRzgqxkXg
SUMMARY:WVC Event: Visiting Writer Dr. Drew Lanham: On Race and the Environ
 ment in the Age of the Climate Crisis
END:VEVENT
END:VCALENDAR
