BEGIN:VCALENDAR
VERSION:2.0
PRODID:-//wenatcheeriverinstitute.org//NONSGML kigkonsult.se iCalcreator 2.
 30.10//
CALSCALE:GREGORIAN
METHOD:PUBLISH
UID:0cf27ee4-1cad-4941-a0bb-95d9f089d648
X-WR-CALDESC:Free Community Starts Swap!\nWe're teaming up with The Plant A
 lly on May 6th from 4:30-5:30pm to host a community starts swap! All are w
 elcome!\n\nIf you have starts to share & trade- great!\nIf you don't have 
 starts but are interested in getting plants to get you started in your gar
 den - great! Let's kick off the Spring season by gathering together!\n\nTo
  participate: Come on down to Wenatchee River Institute's Community Garden
 . If you have starts to swap\, bring them and we will have tables set up f
 or your plants. If you do not have starts come on down to see what is avai
 lable to go home with!\n\nLocation: E. Lorene Young Community Garden - at 
 the end of 12th street in Leavenworth\nPlease come with masks.\n\nPhoto cr
 edit: Modern Farmer
X-WR-RELCALID:0d221f15e686c94de60c39c3ba4784d6
X-WR-TIMEZONE:America/Los_Angeles
BEGIN:VTIMEZONE
TZID:America/Los_Angeles
BEGIN:STANDARD
TZNAME:PST
DTSTART:20201101T020000
TZOFFSETFROM:-0700
TZOFFSETTO:-0800
RDATE:20211107T020000
END:STANDARD
BEGIN:DAYLIGHT
TZNAME:PDT
DTSTART:20210314T020000
TZOFFSETFROM:-0800
TZOFFSETTO:-0700
RDATE:20220313T020000
END:DAYLIGHT
END:VTIMEZONE
BEGIN:VEVENT
UID:27474f69-e8ac-4325-be77-f9106ccd7ab2
DTSTAMP:20260424T130607Z
DESCRIPTION:Free Community Starts Swap!\nWe're teaming up with The Plant Al
 ly on May 6th from 4:30-5:30pm to host a community starts swap! All are we
 lcome!\n\nIf you have starts to share & trade- great!\nIf you don't have s
 tarts but are interested in getting plants to get you started in your gard
 en - great! Let's kick off the Spring season by gathering together!\n\nTo 
 participate: Come on down to Wenatchee River Institute's Community Garden.
  If you have starts to swap\, bring them and we will have tables set up fo
 r your plants. If you do not have starts come on down to see what is avail
 able to go home with!\n\nLocation: E. Lorene Young Community Garden - at t
 he end of 12th street in Leavenworth\nPlease come with masks.\n\nPhoto cre
 dit: Modern Farmer
DTSTART;TZID=America/Los_Angeles:20210506T163000
DTEND;TZID=America/Los_Angeles:20210506T173000
LOCATION:E. Lorene Young Community Garden
SUMMARY:Free Community Starts Swap
END:VEVENT
END:VCALENDAR
