BEGIN:VCALENDAR
VERSION:2.0
PRODID:-//wenatcheeriverinstitute.org//NONSGML kigkonsult.se iCalcreator 2.
 30.10//
CALSCALE:GREGORIAN
METHOD:PUBLISH
UID:f9d3d7a9-7536-4212-b504-85984944bead
X-WR-CALDESC:In this workshop\, Betsy will share step-by-step methods for s
 uccessful composting with a traditional compost bin\, a barrel composter\,
  and a worm bin. You'll learn the pros and cons of each method\, so you ca
 n decide which one best suits your needs. The goal of the workshop is to g
 ive you the confidence to compost at home\, even if you've tried and given
  up. Participants are encouraged to bring a container of kitchen scraps fo
 r a hands-on demonstration. The instructor will also bring her worm bin\, 
 so you can see red wigglers in action.\n\nCost: Pay What You Can\nLimit of
  15 participants\n\nInstructor Bio:\nBetsy Dudash is a Purdue-trained land
 scape horticulturist and designer in Wenatchee. She serves on the board of
  Sustainable Wenatchee\, writes occasional blog posts and articles\, and t
 eaches in the Continuing Education program at Wenatchee Valley College. Yo
 u can reach her at SeasonsUrbanHorticulture@gmail.com.
X-WR-RELCALID:474009dcb7e8c42ce18f1ade0e6e4e47
X-WR-TIMEZONE:America/Los_Angeles
BEGIN:VTIMEZONE
TZID:America/Los_Angeles
BEGIN:STANDARD
TZNAME:PST
DTSTART:20201101T020000
TZOFFSETFROM:-0700
TZOFFSETTO:-0800
RDATE:20211107T020000
RDATE:20221106T020000
END:STANDARD
BEGIN:DAYLIGHT
TZNAME:PDT
DTSTART:20210314T020000
TZOFFSETFROM:-0800
TZOFFSETTO:-0700
RDATE:20220313T020000
END:DAYLIGHT
END:VTIMEZONE
BEGIN:VEVENT
UID:165d89d8-3098-4c6a-af21-343f3cdefc2f
DTSTAMP:20260424T112055Z
DESCRIPTION:In this workshop\, Betsy will share step-by-step methods for su
 ccessful composting with a traditional compost bin\, a barrel composter\, 
 and a worm bin. You'll learn the pros and cons of each method\, so you can
  decide which one best suits your needs. The goal of the workshop is to gi
 ve you the confidence to compost at home\, even if you've tried and given 
 up. Participants are encouraged to bring a container of kitchen scraps for
  a hands-on demonstration. The instructor will also bring her worm bin\, s
 o you can see red wigglers in action.\n\nCost: Pay What You Can\nLimit of 
 15 participants\n\nInstructor Bio:\nBetsy Dudash is a Purdue-trained lands
 cape horticulturist and designer in Wenatchee. She serves on the board of 
 Sustainable Wenatchee\, writes occasional blog posts and articles\, and te
 aches in the Continuing Education program at Wenatchee Valley College. You
  can reach her at SeasonsUrbanHorticulture@gmail.com.
DTSTART;TZID=America/Los_Angeles:20210615T173000
DTEND;TZID=America/Los_Angeles:20210615T190000
LOCATION:E. Lorene Young Community Garden
SUMMARY:Composting 101
END:VEVENT
END:VCALENDAR
