BEGIN:VCALENDAR
VERSION:2.0
PRODID:-//wenatcheeriverinstitute.org//NONSGML kigkonsult.se iCalcreator 2.
 30.10//
CALSCALE:GREGORIAN
METHOD:PUBLISH
UID:8755d7f7-63a0-466c-9c30-aa414b6c67b2
X-WR-CALDESC:JUNETEENTH 2021\n\nRecognition | Reconocimiento\nRestoration |
  Restauración\nCelebration | Celebración\n\nWENATCHEE COMMUNITY EVENT\nSAT
 URDAY\, JUNE 19 | 1-4PM PIONEER PARK\nCome celebrate Freedom Day with us! 
 Bring your family and friends\, a blanket and a picnic lunch. We are recog
 nizing this holiday in celebration of the 1856 liberation of Black enslave
 d peoples. There will be music\, yard games\, poetry\, dancing\, history a
 nd story telling for all ages. Join us for this community event on this da
 y of restoration and celebration.\n\nEVENTO COMUNITARIO DE WENATCHEE\nSÁBA
 DO\, 19 DE JUNIO | 1-4PM PARQUE PIONEER \n¡Ven y celebra el Día de la Libe
 rtad con nosotros! Traiga a su familia y amigos\, una manta y un almuerzo 
 tipo picnic. Reconocemos este día como una fiesta en celebración de la 186
 5 liberación de la gente negra esclavizadas. Habrá música\, actividades\, 
 poesía\, baile\, historia y narración de cuentos para TODAS LAS EDADES. Ún
 ase a nosotros en este día de restauración y celebración para nuestras com
 unidades.\n
X-WR-RELCALID:e6a50f268a5be149e0cc39a836221922
X-WR-TIMEZONE:America/Los_Angeles
BEGIN:VTIMEZONE
TZID:America/Los_Angeles
BEGIN:STANDARD
TZNAME:PST
DTSTART:20201101T020000
TZOFFSETFROM:-0700
TZOFFSETTO:-0800
RDATE:20211107T020000
RDATE:20221106T020000
END:STANDARD
BEGIN:DAYLIGHT
TZNAME:PDT
DTSTART:20210314T020000
TZOFFSETFROM:-0800
TZOFFSETTO:-0700
RDATE:20220313T020000
END:DAYLIGHT
END:VTIMEZONE
BEGIN:VEVENT
UID:3966f0cd-8c6b-40ea-a231-5bbc3bd85c6a
DTSTAMP:20260424T112045Z
DESCRIPTION:JUNETEENTH 2021\n\nRecognition | Reconocimiento\nRestoration | 
 Restauración\nCelebration | Celebración\n\nWENATCHEE COMMUNITY EVENT\nSATU
 RDAY\, JUNE 19 | 1-4PM PIONEER PARK\nCome celebrate Freedom Day with us! B
 ring your family and friends\, a blanket and a picnic lunch. We are recogn
 izing this holiday in celebration of the 1856 liberation of Black enslaved
  peoples. There will be music\, yard games\, poetry\, dancing\, history an
 d story telling for all ages. Join us for this community event on this day
  of restoration and celebration.\n\nEVENTO COMUNITARIO DE WENATCHEE\nSÁBAD
 O\, 19 DE JUNIO | 1-4PM PARQUE PIONEER \n¡Ven y celebra el Día de la Liber
 tad con nosotros! Traiga a su familia y amigos\, una manta y un almuerzo t
 ipo picnic. Reconocemos este día como una fiesta en celebración de la 1865
  liberación de la gente negra esclavizadas. Habrá música\, actividades\, p
 oesía\, baile\, historia y narración de cuentos para TODAS LAS EDADES. Úna
 se a nosotros en este día de restauración y celebración para nuestras comu
 nidades.\n
DTSTART;TZID=America/Los_Angeles:20210619T130000
DTEND;TZID=America/Los_Angeles:20210619T160000
LOCATION:Pioneer Park\, Wenatchee
SUMMARY:Juneteenth 2021
END:VEVENT
END:VCALENDAR
