BEGIN:VCALENDAR
VERSION:2.0
PRODID:-//wenatcheeriverinstitute.org//NONSGML kigkonsult.se iCalcreator 2.
 30.10//
CALSCALE:GREGORIAN
METHOD:PUBLISH
UID:1d92e8c9-177a-4188-aedf-7113fb9ca28a
X-WR-CALDESC:Join the Wenatchee River Institute for a two-hour\, guided nat
 ure walk through Waterfront Park. If you are visiting the area\, this walk
  provides the opportunity to explore the outdoors and learn about natural 
 and cultural history specific to Leavenworth with scenic views along the w
 ay! We will discuss many topics including local plants and animals\, geolo
 gy\, the p’squosa (Wenatchi) people and the history of Leavenworth.\n\nDif
 ficulty level: a ‘walk in the park’ (beginner level)\n     Not fully ADA a
 ccessible due to gravel trails\n\nLimit of 10 participants - Registration 
 required\n\nSaturdays 4:00PM-6:00PM\n\nGeneral Admission\, ages 6+ --- $18
  \n          Free for children 5 and under
X-WR-RELCALID:7ed580ba8b3ab257fcc3ef264b7f3ce1
X-WR-TIMEZONE:America/Los_Angeles
BEGIN:VTIMEZONE
TZID:America/Los_Angeles
BEGIN:STANDARD
TZNAME:PST
DTSTART:20201101T020000
TZOFFSETFROM:-0700
TZOFFSETTO:-0800
RDATE:20211107T020000
RDATE:20221106T020000
END:STANDARD
BEGIN:DAYLIGHT
TZNAME:PDT
DTSTART:20210314T020000
TZOFFSETFROM:-0800
TZOFFSETTO:-0700
RDATE:20220313T020000
END:DAYLIGHT
END:VTIMEZONE
BEGIN:VEVENT
UID:fdb5d96f-28f1-4822-9bc9-4b2489f58aa5
DTSTAMP:20260424T112112Z
DESCRIPTION:Join the Wenatchee River Institute for a two-hour\, guided natu
 re walk through Waterfront Park. If you are visiting the area\, this walk 
 provides the opportunity to explore the outdoors and learn about natural a
 nd cultural history specific to Leavenworth with scenic views along the wa
 y! We will discuss many topics including local plants and animals\, geolog
 y\, the p’squosa (Wenatchi) people and the history of Leavenworth.\n\nDiff
 iculty level: a ‘walk in the park’ (beginner level)\n     Not fully ADA ac
 cessible due to gravel trails\n\nLimit of 10 participants - Registration r
 equired\n\nSaturdays 4:00PM-6:00PM\n\nGeneral Admission\, ages 6+ --- $18 
 \n          Free for children 5 and under
DTSTART;TZID=America/Los_Angeles:20210626T160000
DTEND;TZID=America/Los_Angeles:20210626T180000
LOCATION:Wenatchee River Institute
SUMMARY:Guided Nature Walks
END:VEVENT
END:VCALENDAR
