BEGIN:VCALENDAR
VERSION:2.0
PRODID:-//wenatcheeriverinstitute.org//NONSGML kigkonsult.se iCalcreator 2.
 30.10//
CALSCALE:GREGORIAN
METHOD:PUBLISH
UID:023cb16e-244f-4f83-b5cf-bdbef9ca829d
X-WR-CALDESC:We have a volunteer opportunity for 2 volunteers to assist wit
 h the 5th grade field day program\, Lichen Explorations. This program is a
  only a half day. \n\nField days are hands-on science and exploration at t
 he WRI campus.  Upon registering to volunteer for this program\, details a
 nd a schedule will be sent to you. \n\nWA state requires all school employ
 ees and volunteers to be fully vaccinated for COVID-19.  Masks are to be w
 orn around children both indoors and outdoors.
X-WR-RELCALID:09e4969849d51bfa4c2153365fafe469
X-WR-TIMEZONE:America/Los_Angeles
BEGIN:VTIMEZONE
TZID:America/Los_Angeles
BEGIN:STANDARD
TZNAME:PST
DTSTART:20211107T020000
TZOFFSETFROM:-0700
TZOFFSETTO:-0800
RDATE:20221106T020000
END:STANDARD
BEGIN:DAYLIGHT
TZNAME:PDT
DTSTART:20210314T020000
TZOFFSETFROM:-0800
TZOFFSETTO:-0700
RDATE:20220313T020000
RDATE:20230312T020000
END:DAYLIGHT
END:VTIMEZONE
BEGIN:VEVENT
UID:6d1e13bc-6cbf-4335-8747-1d79a6648ae3
DTSTAMP:20260425T222042Z
DESCRIPTION:We have a volunteer opportunity for 2 volunteers to assist with
  the 5th grade field day program\, Lichen Explorations. This program is a 
 only a half day. \n\nField days are hands-on science and exploration at th
 e WRI campus.  Upon registering to volunteer for this program\, details an
 d a schedule will be sent to you. \n\nWA state requires all school employe
 es and volunteers to be fully vaccinated for COVID-19.  Masks are to be wo
 rn around children both indoors and outdoors.
DTSTART;TZID=America/Los_Angeles:20211103T120000
DTEND;TZID=America/Los_Angeles:20211103T144500
LOCATION:Wenatchee River Institute
SUMMARY:Volunteer Opportunity- 5th Grade Field Day
END:VEVENT
END:VCALENDAR
