BEGIN:VCALENDAR
VERSION:2.0
PRODID:-//wenatcheeriverinstitute.org//NONSGML kigkonsult.se iCalcreator 2.
 30.10//
CALSCALE:GREGORIAN
METHOD:PUBLISH
UID:95a218b8-5ba2-4394-a1ca-dc00e1b248f5
X-WR-CALDESC:Riverfront Rock Gym is putting on a gear swap doubling as a fu
 ndraiser for the Washington Anchor Replacement Project (WARP). This non-pr
 ofit organization with a mission to update and replace aging hardware for 
 climbing in Washington State.\n\nCome see WRI and other local organization
 s at this event! \n\n
X-WR-RELCALID:10d6464c3bcd714afb2e6eee4d8e9dcd
X-WR-TIMEZONE:America/Los_Angeles
BEGIN:VTIMEZONE
TZID:America/Los_Angeles
BEGIN:STANDARD
TZNAME:PST
DTSTART:20211107T020000
TZOFFSETFROM:-0700
TZOFFSETTO:-0800
RDATE:20221106T020000
END:STANDARD
BEGIN:DAYLIGHT
TZNAME:PDT
DTSTART:20210314T020000
TZOFFSETFROM:-0800
TZOFFSETTO:-0700
RDATE:20220313T020000
RDATE:20230312T020000
END:DAYLIGHT
END:VTIMEZONE
BEGIN:VEVENT
UID:11cf1015-d16e-44a6-8fe5-a1523a107c04
DTSTAMP:20260425T222215Z
DESCRIPTION:Riverfront Rock Gym is putting on a gear swap doubling as a fun
 draiser for the Washington Anchor Replacement Project (WARP). This non-pro
 fit organization with a mission to update and replace aging hardware for c
 limbing in Washington State.\n\nCome see WRI and other local organizations
  at this event! \n\n
DTSTART;TZID=America/Los_Angeles:20211121T110000
DTEND;TZID=America/Los_Angeles:20211121T140000
LOCATION:1319 Walla Walla Ave\, Wenatchee\, WA 98801 US
SUMMARY:Visit WRI at the Riverfront Rock Gym Gear Swap Fundraiser
END:VEVENT
END:VCALENDAR
