BEGIN:VCALENDAR
VERSION:2.0
PRODID:-//wenatcheeriverinstitute.org//NONSGML kigkonsult.se iCalcreator 2.
 30.10//
CALSCALE:GREGORIAN
METHOD:PUBLISH
UID:bc9bbca8-c383-4ffe-bae0-98239add029c
X-WR-CALDESC:This year we are offering the option to pick up a DIY winter w
 reath packet to build your wreath at home. Embrace the coming winter seaso
 n through Wenatchee River Institute and artist\, florist and event planner
  Amy Wall\, of Cashmere’s Salt of The Earth\, to craft a festive wreath an
 d cheer up the chilly days.\n\nOnce you order your packet\, you will be ab
 le to pick it up on the week of December 6th. Monday through Thursday\, 9:
 00AM - 4:00PM. \n\nCost: $35
X-WR-RELCALID:df5db131f5bb2e0e9b49e128cf542004
X-WR-TIMEZONE:America/Los_Angeles
BEGIN:VTIMEZONE
TZID:America/Los_Angeles
BEGIN:STANDARD
TZNAME:PST
DTSTART:20211107T020000
TZOFFSETFROM:-0700
TZOFFSETTO:-0800
RDATE:20221106T020000
END:STANDARD
BEGIN:DAYLIGHT
TZNAME:PDT
DTSTART:20210314T020000
TZOFFSETFROM:-0800
TZOFFSETTO:-0700
RDATE:20220313T020000
RDATE:20230312T020000
END:DAYLIGHT
END:VTIMEZONE
BEGIN:VEVENT
UID:34aa56fc-673f-43d5-b5d4-39fa5bbb9c5a
DTSTAMP:20260426T000234Z
DESCRIPTION:This year we are offering the option to pick up a DIY winter wr
 eath packet to build your wreath at home. Embrace the coming winter season
  through Wenatchee River Institute and artist\, florist and event planner 
 Amy Wall\, of Cashmere’s Salt of The Earth\, to craft a festive wreath and
  cheer up the chilly days.\n\nOnce you order your packet\, you will be abl
 e to pick it up on the week of December 6th. Monday through Thursday\, 9:0
 0AM - 4:00PM. \n\nCost: $35
DTSTART;TZID=America/Los_Angeles:20211204T000000
DTEND;TZID=America/Los_Angeles:20211204T233000
LOCATION:Wenatchee River Institute
SUMMARY:DIY Winter Wreath Packet
END:VEVENT
END:VCALENDAR
