BEGIN:VCALENDAR
VERSION:2.0
PRODID:-//wenatcheeriverinstitute.org//NONSGML kigkonsult.se iCalcreator 2.
 30.10//
CALSCALE:GREGORIAN
METHOD:PUBLISH
UID:8f6e1f95-b157-4204-964f-9bfe7fa04a8b
X-WR-CALDESC:Join us in the Red Barn for an evening with Sustainable Wenatc
 hee Board Member and compost extraordinaire\, Betsy Dudash. When you compo
 st indoors with Red Wigglers\, your kitchen scraps will be turned into nut
 rient-rich worm castings no matter what the weather's like outside. Vermic
 omposting\, as it's called\, is probably even easier than you might think.
  Betsy will demonstrate how to start composting with worms\, including dis
 cussing the types of bins you can buy or make. You'll also learn why Red W
 igglers are the best for vermicomposting\, how to keep them happy\, and ho
 w to harvest and use your worm castings. Betsy will also include a few tip
 s on outdoor composting in our climate.\n\nThis event is put on by Wenatch
 ee River Institute\, Waste Loop\, and Sustainable Wenatchee. \nThis is a F
 REE event with a donation basket at door.\nDoors open at 6:30pm for a comm
 unity social with beer and wine available for purchase. Betsy's presentati
 on will start at 7:00pm.\n\nSpeaker Bio: Betsy Dudash is a Wenatchee-based
 \, Purdue-trained Landscape Horticulturist and Designer who specializes in
  native plants. She is currently Board President of Sustainable Wenatchee 
 and enjoys teaching in the Continuing Education program at Wenatchee Valle
 y College.\n\n\nAddress: 347 Division Street\, Leavenworth\, WA 98826\n\nP
 lease click the link below to join the webinar:\nhttps://us06web.zoom.us/j
 /87187042889?pwd=VDBkYlpMd3N0bTR1QjVNS0FjbGl1UT09\nPasscode: 874925\nOr On
 e tap mobile : \n    US: +12532158782\,\,87187042889#\,\,\,\,*874925#  or 
 +16699006833\,\,87187042889#\,\,\,\,*874925# \nOr Telephone:\n    Dial(for
  higher quality\, dial a number based on your current location):\n        
 US: +1 253 215 8782  or +1 669 900 6833  or +1 346 248 7799  or +1 312 626
  6799  or +1 929 205 6099  or +1 301 715 8592 \nWebinar ID: 871 8704 2889
 \nPasscode: 874925\n    International numbers available: https://us06web.z
 oom.us/u/kkFTAjsJV
X-WR-RELCALID:b4496ee704775d5f6fcfe0075f60988e
X-WR-TIMEZONE:America/Los_Angeles
BEGIN:VTIMEZONE
TZID:America/Los_Angeles
BEGIN:STANDARD
TZNAME:PST
DTSTART:20211107T020000
TZOFFSETFROM:-0700
TZOFFSETTO:-0800
RDATE:20221106T020000
END:STANDARD
BEGIN:DAYLIGHT
TZNAME:PDT
DTSTART:20220313T020000
TZOFFSETFROM:-0800
TZOFFSETTO:-0700
RDATE:20230312T020000
END:DAYLIGHT
END:VTIMEZONE
BEGIN:VEVENT
UID:d3a65a16-5a92-4524-872b-ee0703fb3e20
DTSTAMP:20260424T072345Z
DESCRIPTION:Join us in the Red Barn for an evening with Sustainable Wenatch
 ee Board Member and compost extraordinaire\, Betsy Dudash. When you compos
 t indoors with Red Wigglers\, your kitchen scraps will be turned into nutr
 ient-rich worm castings no matter what the weather's like outside. Vermico
 mposting\, as it's called\, is probably even easier than you might think. 
 Betsy will demonstrate how to start composting with worms\, including disc
 ussing the types of bins you can buy or make. You'll also learn why Red Wi
 gglers are the best for vermicomposting\, how to keep them happy\, and how
  to harvest and use your worm castings. Betsy will also include a few tips
  on outdoor composting in our climate.\n\nThis event is put on by Wenatche
 e River Institute\, Waste Loop\, and Sustainable Wenatchee. \nThis is a FR
 EE event with a donation basket at door.\nDoors open at 6:30pm for a commu
 nity social with beer and wine available for purchase. Betsy's presentatio
 n will start at 7:00pm.\n\nSpeaker Bio: Betsy Dudash is a Wenatchee-based\
 , Purdue-trained Landscape Horticulturist and Designer who specializes in 
 native plants. She is currently Board President of Sustainable Wenatchee a
 nd enjoys teaching in the Continuing Education program at Wenatchee Valley
  College.\n\n\nAddress: 347 Division Street\, Leavenworth\, WA 98826\n\nPl
 ease click the link below to join the webinar:\nhttps://us06web.zoom.us/j/
 87187042889?pwd=VDBkYlpMd3N0bTR1QjVNS0FjbGl1UT09\nPasscode: 874925\nOr One
  tap mobile : \n    US: +12532158782\,\,87187042889#\,\,\,\,*874925#  or +
 16699006833\,\,87187042889#\,\,\,\,*874925# \nOr Telephone:\n    Dial(for 
 higher quality\, dial a number based on your current location):\n        U
 S: +1 253 215 8782  or +1 669 900 6833  or +1 346 248 7799  or +1 312 626 
 6799  or +1 929 205 6099  or +1 301 715 8592 \nWebinar ID: 871 8704 2889\n
 Passcode: 874925\n    International numbers available: https://us06web.zoo
 m.us/u/kkFTAjsJV
DTSTART;TZID=America/Los_Angeles:20220406T190000
DTEND;TZID=America/Los_Angeles:20220406T200000
LOCATION:HYBRID EVENT! Come in person or join virtually with zoom link belo
 w
SUMMARY:Red Barn Event: Composting with Red Wrigglers
END:VEVENT
END:VCALENDAR
