BEGIN:VCALENDAR
VERSION:2.0
PRODID:-//wenatcheeriverinstitute.org//NONSGML kigkonsult.se iCalcreator 2.
 30.10//
CALSCALE:GREGORIAN
METHOD:PUBLISH
UID:03a9d412-e9f8-4b6d-a310-ca24ffb24f4b
X-WR-CALDESC:Introducing the first annual Trashion Show with Wenatchee Rive
 r Institute! A fashion show showcasing wearable garments using recycled ma
 terials and repurposed clothes. Create a team to build a Trashion masterpi
 ece to be modeled down the runway OR come down to see the creative pieces 
 built by your neighbors! Audience members will get to vote for the People'
 s Choice Award. Prizes are available for each category of design team. Thi
 s event is put on is partnership with Waste Loop\, Sustainable Wenatchee\,
  and the Sustainability Club at Wenatchee Valley College.\n\nLocal beer an
 d wine will be for sale during this event\, along with non-alcoholic bever
 ages. \n\nRegistration is only for design teams. If you want to just come 
 witness the fun\, no registration required. \n\nThe contest is open to any
 one who has a desire to turn trash into fashion\, to create fun wearable g
 arments from discarded material\, and to recycle and repurpose “junk” into
  fabulous and fantastic fashion. Entrants are encouraged to let their imag
 inations go\, be wildly inventive\, and to “think outside of the recycle b
 in.” Ideas and creations submitted for entry must be the original work of 
 the submitting entrant(s). \n \nRULES: \n1.	Fashion items must be made from
  at least 75% recyclable or reused materials.  \n\n2.	Fashion items can inc
 lude cardboard\, steel/tin\, recycled fabric or clothing\, aluminum\, plas
 tics\, paper cartons\, Styrofoam\, newspaper\, mixed papers (magazines\, j
 unk mail\, and catalogs)\, paper bags\, and other materials. \n\n3.	Vintage
  or used clothing will not be accepted unless it has been significantly re
 purposed and redesigned into something substantially “new.”   \n\n4.	Check 
 out this video for ideas of materials:  https://www.youtube.com/watch?v=NF
 TKESLsQAQ  \n\n5.	Binding materials may be used to hold the pieces together
 .  These might include glue\, tape\, string\, twine\, staples\, and other 
 materials.  These materials may be purchased new.  \n\n6.	If your fashion a
 rticle is being attached to a fabric base\, this cannot be bought new.  Pl
 ease purchase from a second-hand store or use something from your own or a
  friend’s closet. \n\n7.	Contest pieces must be durable enough for wear thr
 oughout all levels of the Fashion Show.  \n\n8.	Up to five people can be on
  each Trashion design team.  See categories of teams for prizes below. Eac
 h entry must provide its own model. The model does not have to be part of 
 the design team. \n\n9.	Entrants will be judged on four criteria: \n•	Use of
  recycled materials or trash \n•	Creativity/originality \n•	Quality of const
 ruction \n•	Description of your fashion item from registration form \n\n10.
 	Create a unique description of the outfit such as materials used\, how the
  outfit was made\, and at least one environment “factoid” that connects wi
 th your fashion (i.e.\, Angie’s dress is made of 138 sheets of paper. In t
 he U.S.\, we throw away 4.5 million tons of office paper each year).  This
  description will be read by M.C. as your model is walking the runway and 
 will be part of the judging.\n\n11.	The day of the show\, a model must wear
  the clothing\, walk to the end of the runway\, post\, turn\, post\, walk 
 to back and return for last judging.  \n\n12.	Prizes will be awarded: \n•Ad
 ult (18+)\n•Older Youth (12-17)\n•Elementary Youth (11 and younger) \n•Peo
 ple’s Choice\n\nRegister by April 15th to be entered into the contest. Reg
 ister your team by hitting the red 'Register Your Design Team Here' button
  above.\n
X-WR-RELCALID:3c7f7188a30b3f07f77a6685d9f46607
X-WR-TIMEZONE:America/Los_Angeles
BEGIN:VTIMEZONE
TZID:America/Los_Angeles
BEGIN:STANDARD
TZNAME:PST
DTSTART:20211107T020000
TZOFFSETFROM:-0700
TZOFFSETTO:-0800
RDATE:20221106T020000
END:STANDARD
BEGIN:DAYLIGHT
TZNAME:PDT
DTSTART:20220313T020000
TZOFFSETFROM:-0800
TZOFFSETTO:-0700
RDATE:20230312T020000
END:DAYLIGHT
END:VTIMEZONE
BEGIN:VEVENT
UID:e00936df-3eac-47fa-8df4-15720b30208a
DTSTAMP:20260422T162949Z
DESCRIPTION:Introducing the first annual Trashion Show with Wenatchee River
  Institute! A fashion show showcasing wearable garments using recycled mat
 erials and repurposed clothes. Create a team to build a Trashion masterpie
 ce to be modeled down the runway OR come down to see the creative pieces b
 uilt by your neighbors! Audience members will get to vote for the People's
  Choice Award. Prizes are available for each category of design team. This
  event is put on is partnership with Waste Loop\, Sustainable Wenatchee\, 
 and the Sustainability Club at Wenatchee Valley College.\n\nLocal beer and
  wine will be for sale during this event\, along with non-alcoholic bevera
 ges. \n\nRegistration is only for design teams. If you want to just come w
 itness the fun\, no registration required. \n\nThe contest is open to anyo
 ne who has a desire to turn trash into fashion\, to create fun wearable ga
 rments from discarded material\, and to recycle and repurpose “junk” into 
 fabulous and fantastic fashion. Entrants are encouraged to let their imagi
 nations go\, be wildly inventive\, and to “think outside of the recycle bi
 n.” Ideas and creations submitted for entry must be the original work of t
 he submitting entrant(s). \n \nRULES: \n1.	Fashion items must be made from 
 at least 75% recyclable or reused materials.  \n\n2.	Fashion items can incl
 ude cardboard\, steel/tin\, recycled fabric or clothing\, aluminum\, plast
 ics\, paper cartons\, Styrofoam\, newspaper\, mixed papers (magazines\, ju
 nk mail\, and catalogs)\, paper bags\, and other materials. \n\n3.	Vintage 
 or used clothing will not be accepted unless it has been significantly rep
 urposed and redesigned into something substantially “new.”   \n\n4.	Check o
 ut this video for ideas of materials:  https://www.youtube.com/watch?v=NFT
 KESLsQAQ  \n\n5.	Binding materials may be used to hold the pieces together.
   These might include glue\, tape\, string\, twine\, staples\, and other m
 aterials.  These materials may be purchased new.  \n\n6.	If your fashion ar
 ticle is being attached to a fabric base\, this cannot be bought new.  Ple
 ase purchase from a second-hand store or use something from your own or a 
 friend’s closet. \n\n7.	Contest pieces must be durable enough for wear thro
 ughout all levels of the Fashion Show.  \n\n8.	Up to five people can be on 
 each Trashion design team.  See categories of teams for prizes below. Each
  entry must provide its own model. The model does not have to be part of t
 he design team. \n\n9.	Entrants will be judged on four criteria: \n•	Use of 
 recycled materials or trash \n•	Creativity/originality \n•	Quality of constr
 uction \n•	Description of your fashion item from registration form \n\n10.	C
 reate a unique description of the outfit such as materials used\, how the 
 outfit was made\, and at least one environment “factoid” that connects wit
 h your fashion (i.e.\, Angie’s dress is made of 138 sheets of paper. In th
 e U.S.\, we throw away 4.5 million tons of office paper each year).  This 
 description will be read by M.C. as your model is walking the runway and w
 ill be part of the judging.\n\n11.	The day of the show\, a model must wear 
 the clothing\, walk to the end of the runway\, post\, turn\, post\, walk t
 o back and return for last judging.  \n\n12.	Prizes will be awarded: \n•Adu
 lt (18+)\n•Older Youth (12-17)\n•Elementary Youth (11 and younger) \n•Peop
 le’s Choice\n\nRegister by April 15th to be entered into the contest. Regi
 ster your team by hitting the red 'Register Your Design Team Here' button 
 above.\n
DTSTART;TZID=America/Los_Angeles:20220422T173000
DTEND;TZID=America/Los_Angeles:20220422T193000
LOCATION:Wenatchee River Institute
SUMMARY:Trashion Show
END:VEVENT
END:VCALENDAR
