BEGIN:VCALENDAR
VERSION:2.0
PRODID:-//wenatcheeriverinstitute.org//NONSGML kigkonsult.se iCalcreator 2.
 30.10//
CALSCALE:GREGORIAN
METHOD:PUBLISH
UID:c8668596-503e-402b-a957-6103f90fbaab
X-WR-CALDESC:Join Leavenworth local and professional skier\, Ingrid Backstr
 om\, to watch the new film The Approach 2.\n\nBrooklyn Bell\, Vasu Sojitra
 \, Sophia Rouches\, Emilé Zynobia\, Anna Soens and Ingrid Backstrom are re
 framing snowsports to be more inclusive\, lifting each other up on the app
 roach and cheering for each other on the way down.\n\nIngrid Backstrom has
  been skiing professionally for 16 years and has appeared in over 20 ski f
 ilms including Warren Miller\, Sherpas Cinema\, and Matchstick Productions
 . She has been fortunate to make first descents of mountains in China\, Gr
 eenland\, and Baffin Island\, as well as skiing in Pakistan\, Greenland\, 
 and from the summit of Denali. She lives with her husband\, two kids\, and
  a dog in Leavenworth\, Washington. \n\nDoors open at 6:30pm for community
  social with local beer and wine available for purchase. The presentation 
 begins at 7:00pm.\nFree event with a donation basket at the door. This is 
 an in person event held at WRI's Red Barn.
X-WR-RELCALID:bbcda59a4d5531001a32ff519ebff683
X-WR-TIMEZONE:America/Los_Angeles
BEGIN:VTIMEZONE
TZID:America/Los_Angeles
BEGIN:STANDARD
TZNAME:PST
DTSTART:20221106T020000
TZOFFSETFROM:-0700
TZOFFSETTO:-0800
RDATE:20231105T020000
END:STANDARD
BEGIN:DAYLIGHT
TZNAME:PDT
DTSTART:20220313T020000
TZOFFSETFROM:-0800
TZOFFSETTO:-0700
RDATE:20230312T020000
RDATE:20240310T020000
END:DAYLIGHT
END:VTIMEZONE
BEGIN:VEVENT
UID:fb25b116-8223-4af0-a42b-cd23cf60231a
DTSTAMP:20260420T031317Z
DESCRIPTION:Join Leavenworth local and professional skier\, Ingrid Backstro
 m\, to watch the new film The Approach 2.\n\nBrooklyn Bell\, Vasu Sojitra\
 , Sophia Rouches\, Emilé Zynobia\, Anna Soens and Ingrid Backstrom are ref
 raming snowsports to be more inclusive\, lifting each other up on the appr
 oach and cheering for each other on the way down.\n\nIngrid Backstrom has 
 been skiing professionally for 16 years and has appeared in over 20 ski fi
 lms including Warren Miller\, Sherpas Cinema\, and Matchstick Productions.
  She has been fortunate to make first descents of mountains in China\, Gre
 enland\, and Baffin Island\, as well as skiing in Pakistan\, Greenland\, a
 nd from the summit of Denali. She lives with her husband\, two kids\, and 
 a dog in Leavenworth\, Washington. \n\nDoors open at 6:30pm for community 
 social with local beer and wine available for purchase. The presentation b
 egins at 7:00pm.\nFree event with a donation basket at the door. This is a
 n in person event held at WRI's Red Barn.
DTSTART;TZID=America/Los_Angeles:20230104T190000
DTEND;TZID=America/Los_Angeles:20230104T200000
LOCATION:Wenatchee River Institute\, 347 Division St. Leavenworth\, WA 9882
 6
SUMMARY:Red Barn Event - The Approach 2 with Ingrid Backstrom
END:VEVENT
END:VCALENDAR
