BEGIN:VCALENDAR
VERSION:2.0
PRODID:-//wenatcheeriverinstitute.org//NONSGML kigkonsult.se iCalcreator 2.
 30.10//
CALSCALE:GREGORIAN
METHOD:PUBLISH
UID:07c52e99-36d4-436f-8771-005561682c29
X-WR-CALDESC:Zoom link: https://us06web.zoom.us/j/82062939651\n\nJoin us fo
 r a Red Barn Event with Danielle Worley and Selina Danko offered jointly b
 y Link Transit and the Wenatchee River Institute. \n\nWriting is a trip\, 
 literally\, for Link Transit commuter and author Danielle Worley – who use
 s her time in transit to up her weekly word count. Inevitably\, stories fr
 om Worley’s commute become part of the daily narrative and seep into her f
 requent social media updates of lessons learned. Grab a seat and settle in
  for the ride as Worley\, who writes under her pen name of Lucy H. Delaney
 \, shares tales from the road complete with cliff hangers\, self-deprecati
 ng humor and all of the drama of your favorite Netflix series.\n\nDanielle
  Worley is a women’s literature author who lives in the Wenatchee Valley. 
 She has published seven novels and a self-help book. She will be joined by
  Public Transportation champion Selina Danko who will share the myriad of 
 travel options offered by Link Transit. From Ride Share to Dial-A-Ride\, s
 he can probably find a seat for you!\n\nThis is a FREE event with a donati
 on basket at the door.\nDoors open at 6:30pm for a community social with b
 eer and wine available for purchase. The presentation will start at 7:00pm
 .\nAll Red Barn Events are now hybrid\, you may join us in person in the R
 ed Barn or livestream virtually via Zoom.\n\nAddress: 347 Division Street\
 , Leavenworth\, WA 98826\n\nHi there\,\n\nYou are invited to a Zoom webina
 r.\nWhen: Jan 12\, 2023 07:00 PM Pacific Time (US and Canada)\nTopic: RBE:
  The Many Adventures of the Riding Writer\n\nPlease click the link below t
 o join the webinar:\nhttps://us06web.zoom.us/j/82062939651\n\n
X-WR-RELCALID:e0ca2682763f615673a9163daa4a9aae
X-WR-TIMEZONE:America/Los_Angeles
BEGIN:VTIMEZONE
TZID:America/Los_Angeles
BEGIN:STANDARD
TZNAME:PST
DTSTART:20221106T020000
TZOFFSETFROM:-0700
TZOFFSETTO:-0800
RDATE:20231105T020000
END:STANDARD
BEGIN:DAYLIGHT
TZNAME:PDT
DTSTART:20220313T020000
TZOFFSETFROM:-0800
TZOFFSETTO:-0700
RDATE:20230312T020000
RDATE:20240310T020000
END:DAYLIGHT
END:VTIMEZONE
BEGIN:VEVENT
UID:0009bf60-0f85-43a7-aa2f-2eb852a3caed
DTSTAMP:20260420T153551Z
DESCRIPTION:Zoom link: https://us06web.zoom.us/j/82062939651\n\nJoin us for
  a Red Barn Event with Danielle Worley and Selina Danko offered jointly by
  Link Transit and the Wenatchee River Institute. \n\nWriting is a trip\, l
 iterally\, for Link Transit commuter and author Danielle Worley – who uses
  her time in transit to up her weekly word count. Inevitably\, stories fro
 m Worley’s commute become part of the daily narrative and seep into her fr
 equent social media updates of lessons learned. Grab a seat and settle in 
 for the ride as Worley\, who writes under her pen name of Lucy H. Delaney\
 , shares tales from the road complete with cliff hangers\, self-deprecatin
 g humor and all of the drama of your favorite Netflix series.\n\nDanielle 
 Worley is a women’s literature author who lives in the Wenatchee Valley. S
 he has published seven novels and a self-help book. She will be joined by 
 Public Transportation champion Selina Danko who will share the myriad of t
 ravel options offered by Link Transit. From Ride Share to Dial-A-Ride\, sh
 e can probably find a seat for you!\n\nThis is a FREE event with a donatio
 n basket at the door.\nDoors open at 6:30pm for a community social with be
 er and wine available for purchase. The presentation will start at 7:00pm.
 \nAll Red Barn Events are now hybrid\, you may join us in person in the Re
 d Barn or livestream virtually via Zoom.\n\nAddress: 347 Division Street\,
  Leavenworth\, WA 98826\n\nHi there\,\n\nYou are invited to a Zoom webinar
 .\nWhen: Jan 12\, 2023 07:00 PM Pacific Time (US and Canada)\nTopic: RBE: 
 The Many Adventures of the Riding Writer\n\nPlease click the link below to
  join the webinar:\nhttps://us06web.zoom.us/j/82062939651\n\n
DTSTART;TZID=America/Los_Angeles:20230112T190000
DTEND;TZID=America/Los_Angeles:20230112T200000
LOCATION:Wenatchee River Institute\, 347 Division St. Leavenworth\, WA 9882
 6
SUMMARY:Red Barn Event - The Many Adventures of the Riding Writer
END:VEVENT
END:VCALENDAR
