BEGIN:VCALENDAR
VERSION:2.0
PRODID:-//wenatcheeriverinstitute.org//NONSGML kigkonsult.se iCalcreator 2.
 30.10//
CALSCALE:GREGORIAN
METHOD:PUBLISH
UID:e2d67910-d649-47d5-894a-3c0d836a8ace
X-WR-CALDESC:Zoom link: https://us06web.zoom.us/j/81885139701\n\nThis is a 
 FREE event with a donation basket at the door.\nDoors open at 6:30pm for a
  community social with beer and wine available for purchase. The presentat
 ion will start at 7:00pm.\nRed Barn Events are now hybrid\, you may join u
 s in person in the Red Barn or livestream virtually via Zoom.\n\nFall is a
  spectacular time of year for hiking in the Pacific Northwest! Join guideb
 ook author Tami Asars as she walks us through some of her favorite autumn 
 hikes and colorful scenic drives from her latest book\, Fall Color Hikes: 
 Washington (Mountaineers Books). Pick up the book from A Book for All Seas
 ons at the event and get it signed!\n\nTami Asars is a freelance\, outdoor
 s-focused writer and nature photographer\, living in the Cascade foothills
  of Washington State with her husband\, Vilnis and her rough collie\, Scou
 t. She is the author of Hiking the Wonderland Trail\, Day Hiking Mount Ada
 ms and Goat Rocks\, Hiking the Pacific Crest Trail: Washington\, Day Hikin
 g Mount Rainier\, and Fall Color Hikes: Washington. She also is a contribu
 tor\, photographer and columnist for Washington Trails Magazine\, Alaska A
 irlines Magazine\, and online hiking resources. She is a Triple Crown hike
 r\, meaning she has completed the three major US trails (Pacific Crest Tra
 il\, Continental Divide Trail and the Appalachian Trail) as well as a host
  of others (Wonderland\, West Coast\, Colorado Trail\, Arizona Trail\, etc
 ). Tami has also served as a professional backpacking and outdoor instruct
 ional guide\, teaching and guiding people of all skill levels the wonders 
 of backpacking in the Pacific Northwest. For more information\, please vis
 it www.tamiasars.com.\n\nPlease click the link below to join the webinar:
 \nhttps://us06web.zoom.us/j/81885139701\nOr One tap mobile : \n    US: +12
 532158782\,\,81885139701#  or +12532050468\,\,81885139701# \nOr Telephone:
 \n    Dial(for higher quality\, dial a number based on your current locati
 on):\n        US: +1 253 215 8782  or +1 253 205 0468  or +1 719 359 4580 
  or +1 346 248 7799  or +1 669 444 9171  or +1 669 900 6833  or +1 689 278
  1000  or +1 929 205 6099  or +1 301 715 8592  or +1 305 224 1968  or +1 3
 09 205 3325  or +1 312 626 6799  or +1 360 209 5623  or +1 386 347 5053  o
 r +1 507 473 4847  or +1 564 217 2000  or +1 646 931 3860 \nWebinar ID: 81
 8 8513 9701\n    International numbers available: https://us06web.zoom.us/
 u/kcPDMQa6d3\n\n
X-WR-RELCALID:c1bbb225a5e1f92e90015f52e5e2263c
X-WR-TIMEZONE:America/Los_Angeles
BEGIN:VTIMEZONE
TZID:America/Los_Angeles
BEGIN:STANDARD
TZNAME:PST
DTSTART:20221106T020000
TZOFFSETFROM:-0700
TZOFFSETTO:-0800
RDATE:20231105T020000
RDATE:20241103T020000
END:STANDARD
BEGIN:DAYLIGHT
TZNAME:PDT
DTSTART:20230312T020000
TZOFFSETFROM:-0800
TZOFFSETTO:-0700
RDATE:20240310T020000
RDATE:20250309T020000
END:DAYLIGHT
END:VTIMEZONE
BEGIN:VEVENT
UID:7e2c2e53-8fd2-48fb-8260-2d506e034803
DTSTAMP:20260423T192917Z
DESCRIPTION:Zoom link: https://us06web.zoom.us/j/81885139701\n\nThis is a F
 REE event with a donation basket at the door.\nDoors open at 6:30pm for a 
 community social with beer and wine available for purchase. The presentati
 on will start at 7:00pm.\nRed Barn Events are now hybrid\, you may join us
  in person in the Red Barn or livestream virtually via Zoom.\n\nFall is a 
 spectacular time of year for hiking in the Pacific Northwest! Join guidebo
 ok author Tami Asars as she walks us through some of her favorite autumn h
 ikes and colorful scenic drives from her latest book\, Fall Color Hikes: W
 ashington (Mountaineers Books). Pick up the book from A Book for All Seaso
 ns at the event and get it signed!\n\nTami Asars is a freelance\, outdoors
 -focused writer and nature photographer\, living in the Cascade foothills 
 of Washington State with her husband\, Vilnis and her rough collie\, Scout
 . She is the author of Hiking the Wonderland Trail\, Day Hiking Mount Adam
 s and Goat Rocks\, Hiking the Pacific Crest Trail: Washington\, Day Hiking
  Mount Rainier\, and Fall Color Hikes: Washington. She also is a contribut
 or\, photographer and columnist for Washington Trails Magazine\, Alaska Ai
 rlines Magazine\, and online hiking resources. She is a Triple Crown hiker
 \, meaning she has completed the three major US trails (Pacific Crest Trai
 l\, Continental Divide Trail and the Appalachian Trail) as well as a host 
 of others (Wonderland\, West Coast\, Colorado Trail\, Arizona Trail\, etc)
 . Tami has also served as a professional backpacking and outdoor instructi
 onal guide\, teaching and guiding people of all skill levels the wonders o
 f backpacking in the Pacific Northwest. For more information\, please visi
 t www.tamiasars.com.\n\nPlease click the link below to join the webinar:\n
 https://us06web.zoom.us/j/81885139701\nOr One tap mobile : \n    US: +1253
 2158782\,\,81885139701#  or +12532050468\,\,81885139701# \nOr Telephone:\n
     Dial(for higher quality\, dial a number based on your current location
 ):\n        US: +1 253 215 8782  or +1 253 205 0468  or +1 719 359 4580  o
 r +1 346 248 7799  or +1 669 444 9171  or +1 669 900 6833  or +1 689 278 1
 000  or +1 929 205 6099  or +1 301 715 8592  or +1 305 224 1968  or +1 309
  205 3325  or +1 312 626 6799  or +1 360 209 5623  or +1 386 347 5053  or 
 +1 507 473 4847  or +1 564 217 2000  or +1 646 931 3860 \nWebinar ID: 818 
 8513 9701\n    International numbers available: https://us06web.zoom.us/u/
 kcPDMQa6d3\n\n
DTSTART;TZID=America/Los_Angeles:20230922T190000
DTEND;TZID=America/Los_Angeles:20230922T200000
LOCATION:HYBRID EVENT: WRI's Red Barn 347 Division Street\, Leavenworth\, W
 A 98826 or livestream via Zoom
SUMMARY:Red Barn Event - Fall Color Hikes with Tami Asars
END:VEVENT
END:VCALENDAR
