BEGIN:VCALENDAR
VERSION:2.0
PRODID:-//wenatcheeriverinstitute.org//NONSGML kigkonsult.se iCalcreator 2.
 30.10//
CALSCALE:GREGORIAN
METHOD:PUBLISH
UID:d67b7fbd-0572-4450-a28f-deaa76e1527c
X-WR-CALDESC:Improve your photography skills and see the world in a new way
 .\n\nStep outside and into the natural world—ready to see\, frame\, and ca
 pture! This outdoor photo field trip will train your eye and spark your cr
 eativity. Learn how to observe your environment like a photographer\, comp
 ose dynamic shots using natural light\, and create a mini nature photo sto
 ry. You'll walk\, explore\, shoot\, and reflect—all in one immersive outdo
 or experience. Join us at Lake Wenatchee on September 28th and/or Icicle G
 orge on October 12. Participants can sign up for a single workshop or regi
 ster for both for deeper growth.\n\nThese workshops are geared toward begi
 nner / intermediate- level photographers\, but all are welcome to enroll. 
 Any type of capture device may be used including cell phone\, point and sh
 oot\, mirrorless and DSLR cameras.\n\nThe instructor for this course\, Lin
 da Lyons\, is a passionate and dedicated educator\, artist and facilitator
  of community. She is a nature enthusiast\, avid trail runner\, novice cli
 mber and lost-dog magnet. Linda has extensive experience in darkroom\, ant
 ique processes and digital photographic practice and instruction. She has 
 exhibited her art nationally and internationally and has been published in
  print and web-based periodicals. Linda is currently a photography instruc
 tor at Indiana University South Bend and Wenatchee Valley College. Linda i
 s committed to creating welcoming\, inclusive learning spaces and is a LGB
 TQ+ advocate. She considers life an art adventure and enjoys supporting ot
 hers’ creative endeavors. She encourages her students to consider themselv
 es storytellers\, image-makers and artists. \n\nGroup size: 13 participant
 s\nHiking: Expect between 2 and 4 miles of walking on trails at a photogra
 pher's pace: slow and with extended breaks!\nAges: 15 and up. Participants
  under 18 must attend with a registered adult.\n\nTransportation is provid
 ed from WRI to the trailhead.\n\nBring your own camera\, even if it's 'jus
 t' a cell phone!\n\nCost is Pay What You Can. We offer the Pay What You Ca
 n model in recognition that paying for education programs looks different 
 for different people. The options here are provided as suggestions\, based
  on the costs to WRI to put on this program. If you want to attend this pr
 ogram\, we want you to be there. Use the options below as a guideline upon
  registration. Please choose an amount that fits within your budget to att
 end this event\, even if that is lower than the suggested amount. We want 
 anyone who is interested to be able to attend!\n\n$65/person\nThis option 
 may be for you if you are excited to attend this program and are able to p
 ay a little extra so a neighbor can attend at a lower cost.\n\n$55/person
 \nThis option may be for you if you are excited to support WRI\, and atten
 ding this program doesn't put a strain on your weekly budget. This amount 
 is the actual cost to WRI to put on this program.\n\n$40/person\nThis opti
 on may be for you if your budget is tight\, but still really want to atten
 d this program and support WRI.\n
X-WR-RELCALID:53ada84a71636694b1d82fb32877b92f
X-WR-TIMEZONE:America/Los_Angeles
BEGIN:VTIMEZONE
TZID:America/Los_Angeles
BEGIN:STANDARD
TZNAME:PST
DTSTART:20241103T020000
TZOFFSETFROM:-0700
TZOFFSETTO:-0800
RDATE:20251102T020000
RDATE:20261101T020000
END:STANDARD
BEGIN:DAYLIGHT
TZNAME:PDT
DTSTART:20250309T020000
TZOFFSETFROM:-0800
TZOFFSETTO:-0700
RDATE:20260308T020000
RDATE:20270314T020000
END:DAYLIGHT
END:VTIMEZONE
BEGIN:VEVENT
UID:14ba5cf2-82f4-46d9-ba78-0747d4dbf906
DTSTAMP:20260419T125337Z
DESCRIPTION:Improve your photography skills and see the world in a new way.
 \n\nStep outside and into the natural world—ready to see\, frame\, and cap
 ture! This outdoor photo field trip will train your eye and spark your cre
 ativity. Learn how to observe your environment like a photographer\, compo
 se dynamic shots using natural light\, and create a mini nature photo stor
 y. You'll walk\, explore\, shoot\, and reflect—all in one immersive outdoo
 r experience. Join us at Lake Wenatchee on September 28th and/or Icicle Go
 rge on October 12. Participants can sign up for a single workshop or regis
 ter for both for deeper growth.\n\nThese workshops are geared toward begin
 ner / intermediate- level photographers\, but all are welcome to enroll. A
 ny type of capture device may be used including cell phone\, point and sho
 ot\, mirrorless and DSLR cameras.\n\nThe instructor for this course\, Lind
 a Lyons\, is a passionate and dedicated educator\, artist and facilitator 
 of community. She is a nature enthusiast\, avid trail runner\, novice clim
 ber and lost-dog magnet. Linda has extensive experience in darkroom\, anti
 que processes and digital photographic practice and instruction. She has e
 xhibited her art nationally and internationally and has been published in 
 print and web-based periodicals. Linda is currently a photography instruct
 or at Indiana University South Bend and Wenatchee Valley College. Linda is
  committed to creating welcoming\, inclusive learning spaces and is a LGBT
 Q+ advocate. She considers life an art adventure and enjoys supporting oth
 ers’ creative endeavors. She encourages her students to consider themselve
 s storytellers\, image-makers and artists. \n\nGroup size: 13 participants
 \nHiking: Expect between 2 and 4 miles of walking on trails at a photograp
 her's pace: slow and with extended breaks!\nAges: 15 and up. Participants 
 under 18 must attend with a registered adult.\n\nTransportation is provide
 d from WRI to the trailhead.\n\nBring your own camera\, even if it's 'just
 ' a cell phone!\n\nCost is Pay What You Can. We offer the Pay What You Can
  model in recognition that paying for education programs looks different f
 or different people. The options here are provided as suggestions\, based 
 on the costs to WRI to put on this program. If you want to attend this pro
 gram\, we want you to be there. Use the options below as a guideline upon 
 registration. Please choose an amount that fits within your budget to atte
 nd this event\, even if that is lower than the suggested amount. We want a
 nyone who is interested to be able to attend!\n\n$65/person\nThis option m
 ay be for you if you are excited to attend this program and are able to pa
 y a little extra so a neighbor can attend at a lower cost.\n\n$55/person\n
 This option may be for you if you are excited to support WRI\, and attendi
 ng this program doesn't put a strain on your weekly budget. This amount is
  the actual cost to WRI to put on this program.\n\n$40/person\nThis option
  may be for you if your budget is tight\, but still really want to attend 
 this program and support WRI.\n
DTSTART;TZID=America/Los_Angeles:20251012T083000
DTEND;TZID=America/Los_Angeles:20251012T133000
LOCATION:Meet at Wenatchee River Institute\, 347 Division St\, Leavenworth\
 , WA 98826
SUMMARY:Outdoor Photography Workshop: Icicle Gorge
END:VEVENT
END:VCALENDAR
