BEGIN:VCALENDAR
VERSION:2.0
PRODID:-//wenatcheeriverinstitute.org//NONSGML kigkonsult.se iCalcreator 2.
 30.10//
CALSCALE:GREGORIAN
METHOD:PUBLISH
UID:3c12caa6-9eaf-488a-ac4a-20699af3f1fb
X-WR-CALDESC:Dia de los Reyes celebrates the cultural tradition found acros
 s Latin America that symbolizes the end of Christmas. We will enjoy tradit
 ional Mexican foods\, guided nature walks at Wenatchee River Institutes ca
 mpus\, gifts for children\, dance and musical performances\, and storytell
 ing. We hope participants will leave inspired to continue to get to know\,
  care for\, and celebrate the diverse social and natural aspects of our co
 mmunities. \n\nEl Día de los Reyes celebra la tradición cultural que se en
 cuentra en toda América Latina y que simboliza el final de la Navidad. Dis
 frutaremos de comidas tradicionales mexicanas\, caminatas guiadas por la n
 aturaleza en el campus de Wenatchee River Institute\, regalos para niños\,
  presentaciones de danza y música\, y narración de cuentos. Esperamos que 
 los participantes se vayan inspirados para seguir conociendo\, cuidando y 
 celebrando los diversos aspectos sociales y naturales de nuestras comunida
 des.\n<hr />\n\n<b>To receive a gift from the Three Kings at the Festhalle
 \, </b>families will need to sign up at WRI between 1 and 3 PM.\nFood is f
 ree\, but <b>everyone who would like a plate needs to sign up</b> at WRI f
 rom 1-3 or the Festhalle starting at 3 and receive a food ticket.\n\n<b>Pa
 ra recibir un regalo de los Reyes Magos en el Festhalle\,</b> las familias
  deberán inscribirse en el WRI entre la 1 y las 3 de la tarde.\nLa comida 
 es gratuita\, pero <b>todos los que deseen un plato deben inscribirse</b> 
 en el WRI entre la 1 y las 3 o en el Festhalle a partir de las 3 y recibir
  un vale de comida.\n<hr />\n\n<b>1:00-3:00 PM:</b> Family activities @ We
 natchee River Institute (WRI)\nActividades familiares @ Wenatchee River In
 stitute. \n\n<b>3:00-3:30 PM</b> Calenda Procession from WRI to the Leaven
 worth Festhalle\nProcesión de Calenda desde WRI hasta el Festhalle\n\n<b>2
 :30-6:30 PM</b> Leavenworth Festhalle\n<ul style='padding-left:20px\;'><li
 >Three Kings presentation\nPresentación de los Reyes Magos</li>\n<li> Free
  food served\nComida gratis servida\n</li><li>DJ Cristy y El Charrito\n</l
 i><li>Folklórico Tierra del Sol\n</li><li>Danzas Multiculturales\n</li><li
 >Ray Heker\n</li><li>Kataleya Garcia\n</li><li>Mariachi Noroeste\n</li></u
 l>\n\n<b>6:30-6:45 PM</b> Calenda Procession to the Front Street Gazebo fo
 r Three Kings message and more music\nProcesión de Calenda al Kiosco para 
 el mensaje de los Reyes Magos y más música.\n\n\nRSVP is not required but 
 helps with planning!\n<hr />\n\nIf your business or organization is intere
 sted in having a booth in the Festhalle during the event\, please reach ou
 t to Wenatchee River Institute <a href='mailto:cterranella@wenatcheeriveri
 nstitute.org'>at this email.</a> The event committee reserves the right to
  decline\, and no food is allowed to be sold or given away at booths. \n\n
 Si su empresa u organización está interesada en tener un stand en el Festh
 alle durante el evento\, póngase en contacto con el Wenatchee River Instit
 ute<a href='mailto:cterranella@wenatcheeriverinstitute.org'>en este correo
  electrónico.</a>  . El comité del evento se reserva el derecho de admisió
 n y no se permite vender ni regalar comida en los stands. \n<hr />\n\nThis
  event is made possible by the following sponsors/Este evento es posible g
 racias a los siguientes patrocinadores: \nWenatchee River Institute\, Fait
 h Lutheran Church Earth Stewardship\, Leavenworth Chamber of Commerce\, Le
 avenworth Immigration/Race Justice Group\, Sarabia’s Landscaping\, Thrivin
 g Together NCW\, Wenatchee Valley Medical Group\, Williams International F
 und\, Woods Family Foundation
X-WR-RELCALID:323d3eb0e168ecd87ea3b61f8601b601
X-WR-TIMEZONE:America/Los_Angeles
BEGIN:VTIMEZONE
TZID:America/Los_Angeles
BEGIN:STANDARD
TZNAME:PST
DTSTART:20251102T020000
TZOFFSETFROM:-0700
TZOFFSETTO:-0800
RDATE:20261101T020000
END:STANDARD
BEGIN:DAYLIGHT
TZNAME:PDT
DTSTART:20250309T020000
TZOFFSETFROM:-0800
TZOFFSETTO:-0700
RDATE:20260308T020000
RDATE:20270314T020000
END:DAYLIGHT
END:VTIMEZONE
BEGIN:VEVENT
UID:662a7cd4-42b4-40ea-9b72-0e421709945a
DTSTAMP:20260421T084404Z
DESCRIPTION:Dia de los Reyes celebrates the cultural tradition found across
  Latin America that symbolizes the end of Christmas. We will enjoy traditi
 onal Mexican foods\, guided nature walks at Wenatchee River Institutes cam
 pus\, gifts for children\, dance and musical performances\, and storytelli
 ng. We hope participants will leave inspired to continue to get to know\, 
 care for\, and celebrate the diverse social and natural aspects of our com
 munities. \n\nEl Día de los Reyes celebra la tradición cultural que se enc
 uentra en toda América Latina y que simboliza el final de la Navidad. Disf
 rutaremos de comidas tradicionales mexicanas\, caminatas guiadas por la na
 turaleza en el campus de Wenatchee River Institute\, regalos para niños\, 
 presentaciones de danza y música\, y narración de cuentos. Esperamos que l
 os participantes se vayan inspirados para seguir conociendo\, cuidando y c
 elebrando los diversos aspectos sociales y naturales de nuestras comunidad
 es.\n<hr />\n\n<b>To receive a gift from the Three Kings at the Festhalle\
 , </b>families will need to sign up at WRI between 1 and 3 PM.\nFood is fr
 ee\, but <b>everyone who would like a plate needs to sign up</b> at WRI fr
 om 1-3 or the Festhalle starting at 3 and receive a food ticket.\n\n<b>Par
 a recibir un regalo de los Reyes Magos en el Festhalle\,</b> las familias 
 deberán inscribirse en el WRI entre la 1 y las 3 de la tarde.\nLa comida e
 s gratuita\, pero <b>todos los que deseen un plato deben inscribirse</b> e
 n el WRI entre la 1 y las 3 o en el Festhalle a partir de las 3 y recibir 
 un vale de comida.\n<hr />\n\n<b>1:00-3:00 PM:</b> Family activities @ Wen
 atchee River Institute (WRI)\nActividades familiares @ Wenatchee River Ins
 titute. \n\n<b>3:00-3:30 PM</b> Calenda Procession from WRI to the Leavenw
 orth Festhalle\nProcesión de Calenda desde WRI hasta el Festhalle\n\n<b>2:
 30-6:30 PM</b> Leavenworth Festhalle\n<ul style='padding-left:20px\;'><li>
 Three Kings presentation\nPresentación de los Reyes Magos</li>\n<li> Free 
 food served\nComida gratis servida\n</li><li>DJ Cristy y El Charrito\n</li
 ><li>Folklórico Tierra del Sol\n</li><li>Danzas Multiculturales\n</li><li>
 Ray Heker\n</li><li>Kataleya Garcia\n</li><li>Mariachi Noroeste\n</li></ul
 >\n\n<b>6:30-6:45 PM</b> Calenda Procession to the Front Street Gazebo for
  Three Kings message and more music\nProcesión de Calenda al Kiosco para e
 l mensaje de los Reyes Magos y más música.\n\n\nRSVP is not required but h
 elps with planning!\n<hr />\n\nIf your business or organization is interes
 ted in having a booth in the Festhalle during the event\, please reach out
  to Wenatchee River Institute <a href='mailto:cterranella@wenatcheeriverin
 stitute.org'>at this email.</a> The event committee reserves the right to 
 decline\, and no food is allowed to be sold or given away at booths. \n\nS
 i su empresa u organización está interesada en tener un stand en el Festha
 lle durante el evento\, póngase en contacto con el Wenatchee River Institu
 te<a href='mailto:cterranella@wenatcheeriverinstitute.org'>en este correo 
 electrónico.</a>  . El comité del evento se reserva el derecho de admisión
  y no se permite vender ni regalar comida en los stands. \n<hr />\n\nThis 
 event is made possible by the following sponsors/Este evento es posible gr
 acias a los siguientes patrocinadores: \nWenatchee River Institute\, Faith
  Lutheran Church Earth Stewardship\, Leavenworth Chamber of Commerce\, Lea
 venworth Immigration/Race Justice Group\, Sarabia’s Landscaping\, Thriving
  Together NCW\, Wenatchee Valley Medical Group\, Williams International Fu
 nd\, Woods Family Foundation
DTSTART;TZID=America/Los_Angeles:20260103T130000
DTEND;TZID=America/Los_Angeles:20260103T193000
LOCATION:Wenatchee River Institute\, 347 Division St. Leavenworth\, WA\, Le
 avenworth Festhalle and Front Street Gazebo
SUMMARY:Día de los Reyes Celebration
END:VEVENT
END:VCALENDAR
