BEGIN:VCALENDAR
VERSION:2.0
PRODID:-//wenatcheeriverinstitute.org//NONSGML kigkonsult.se iCalcreator 2.
 30.10//
CALSCALE:GREGORIAN
METHOD:PUBLISH
UID:3fa6f12b-f904-4f37-94f6-824670ca19d3
X-WR-CALDESC:Join SheJumps at the Wenatchee River Institute for an inspirin
 g evening celebrating women in winter sports at the Girl Winter Film Scree
 ning. The six films highlight stories of perseverance\, creativity\, and c
 onnection to the mountains—told by and about women redefining what it mean
 s to thrive in winter.\n\n<a class='wx-button' href='https://www.eventbrit
 e.com/e/shejumps-x-wenatchee-river-institute-girl-winter-film-tour-wa-tick
 ets-1975342761374?aff=ebdsoporgprofile' style='background:rgba(155\,0\,0\,
 1)\;color:#FFFFFF\;padding:10px 20px\;text-decoration:none\;font-weight:bo
 ld\;' target='_blank' rel='noreferrer noopener'>Click Here to Register</a>
 \n\n<b>Enjoy six short films with a total runtime of 71 minutes:</b>\n<ul 
 style='padding-left:20px\;'>\n<li>Mimic featuring Pipe Kunst\, directed by
  Hadley Michaels and Piper Kunst</li>\n<li>Trails Still Blazing featuring 
 Megan McJames\, directed by Iz La Motte</li>\n<li>Queen of the Catskills f
 eaturing Julie McGuire\, directed by Jamie Kennard\n</li><li>Dear Superher
 o featuring Janina Kuzma\, directed by Corinna Marie Haloran and Jase Hanc
 ox\n</li><li>Let My People Go Skiing featuring Ellen Bradley\, directed by
  Ellen Bradley\n</li><li>That One Friend featuring Sierra Schlag and Waver
 ly Chin\, directed by Sara Beam Robbins and Grant Robbins\n</li></ul>\n\nS
 ip on local beverages—sales benefit the Wenatchee River Institute—and scre
 ening proceeds go to SheJumps\, a nonprofit creating opportunities for wom
 en and girls to get outside and grow through outdoor adventures.\n\nCome f
 or the films\, stay for the community\, and help support two organizations
  empowering people to connect with nature this winter season!\n\nCost: $15
  plus fees\n\n<hr />\n\nAll participants must sign the <a href='https://wa
 iver.smartwaiver.com/w/54e2650539f1f/web/'>SheJumps Participant Waiver</a>
  prior to participating in this event.\n\nSpanish version of our waiver: T
 odos los participantes deben firmar la <a href='https://waiver.smartwaiver
 .com/w/d47nqjft12xbiwh2pgm6fs/web/'>Renuncia de Participante de SheJumps</
 a> antes de participar en este evento.\n\nTo prioritize the health of our 
 community\, please do not attend a SheJumps event if you are experiencing 
 any cold-like symptoms.\n\n<hr />\n\n<b>Cancellation Policy</b> (this even
 t is sponsored by SheJumps\, so WRI will be using their cancellation polic
 y for this event)\n<ul style='padding-left:20px\;'>\n<li>Cancellations mad
 e 7 days or more in advance of the event date will receive a 100% refund o
 n the ticket price. Optional donations made during registration will not b
 e refunded.\n</li><li>Cancellations made within 3-6 days in advance of the
  event date will receive a 50% refund. Optional donations made during regi
 stration will not be refunded.\n</li><li>No refunds will be given for canc
 ellations within 48 hours of the event\, as this does not give us adequate
  time to fill the spot.\n</li></ul>\n<hr />\n\nSheJumps increases the part
 icipation of women and girls in outdoor activities to foster confidence\, 
 leadership\, and connection to nature and community through free and low-c
 ost outdoor education.\n\nSheJumps is an inclusive organization. We welcom
 e all women and girls—transgender and cisgender\, as well as non-binary pe
 ople.\n\nSheJumps strives to fight against racism and acknowledges that ou
 r events and programs take place on traditional\, unceded Indigenous lands
 .
X-WR-RELCALID:f932c72370b31011b4e7327a9274739a
X-WR-TIMEZONE:America/Los_Angeles
BEGIN:VTIMEZONE
TZID:America/Los_Angeles
BEGIN:STANDARD
TZNAME:PST
DTSTART:20251102T020000
TZOFFSETFROM:-0700
TZOFFSETTO:-0800
RDATE:20261101T020000
END:STANDARD
BEGIN:DAYLIGHT
TZNAME:PDT
DTSTART:20250309T020000
TZOFFSETFROM:-0800
TZOFFSETTO:-0700
RDATE:20260308T020000
RDATE:20270314T020000
END:DAYLIGHT
END:VTIMEZONE
BEGIN:VEVENT
UID:dd3d0747-c879-4e23-bc92-36d35c354ac3
DTSTAMP:20260421T083423Z
DESCRIPTION:Join SheJumps at the Wenatchee River Institute for an inspiring
  evening celebrating women in winter sports at the Girl Winter Film Screen
 ing. The six films highlight stories of perseverance\, creativity\, and co
 nnection to the mountains—told by and about women redefining what it means
  to thrive in winter.\n\n<a class='wx-button' href='https://www.eventbrite
 .com/e/shejumps-x-wenatchee-river-institute-girl-winter-film-tour-wa-ticke
 ts-1975342761374?aff=ebdsoporgprofile' style='background:rgba(155\,0\,0\,1
 )\;color:#FFFFFF\;padding:10px 20px\;text-decoration:none\;font-weight:bol
 d\;' target='_blank' rel='noreferrer noopener'>Click Here to Register</a>
 \n\n<b>Enjoy six short films with a total runtime of 71 minutes:</b>\n<ul 
 style='padding-left:20px\;'>\n<li>Mimic featuring Pipe Kunst\, directed by
  Hadley Michaels and Piper Kunst</li>\n<li>Trails Still Blazing featuring 
 Megan McJames\, directed by Iz La Motte</li>\n<li>Queen of the Catskills f
 eaturing Julie McGuire\, directed by Jamie Kennard\n</li><li>Dear Superher
 o featuring Janina Kuzma\, directed by Corinna Marie Haloran and Jase Hanc
 ox\n</li><li>Let My People Go Skiing featuring Ellen Bradley\, directed by
  Ellen Bradley\n</li><li>That One Friend featuring Sierra Schlag and Waver
 ly Chin\, directed by Sara Beam Robbins and Grant Robbins\n</li></ul>\n\nS
 ip on local beverages—sales benefit the Wenatchee River Institute—and scre
 ening proceeds go to SheJumps\, a nonprofit creating opportunities for wom
 en and girls to get outside and grow through outdoor adventures.\n\nCome f
 or the films\, stay for the community\, and help support two organizations
  empowering people to connect with nature this winter season!\n\nCost: $15
  plus fees\n\n<hr />\n\nAll participants must sign the <a href='https://wa
 iver.smartwaiver.com/w/54e2650539f1f/web/'>SheJumps Participant Waiver</a>
  prior to participating in this event.\n\nSpanish version of our waiver: T
 odos los participantes deben firmar la <a href='https://waiver.smartwaiver
 .com/w/d47nqjft12xbiwh2pgm6fs/web/'>Renuncia de Participante de SheJumps</
 a> antes de participar en este evento.\n\nTo prioritize the health of our 
 community\, please do not attend a SheJumps event if you are experiencing 
 any cold-like symptoms.\n\n<hr />\n\n<b>Cancellation Policy</b> (this even
 t is sponsored by SheJumps\, so WRI will be using their cancellation polic
 y for this event)\n<ul style='padding-left:20px\;'>\n<li>Cancellations mad
 e 7 days or more in advance of the event date will receive a 100% refund o
 n the ticket price. Optional donations made during registration will not b
 e refunded.\n</li><li>Cancellations made within 3-6 days in advance of the
  event date will receive a 50% refund. Optional donations made during regi
 stration will not be refunded.\n</li><li>No refunds will be given for canc
 ellations within 48 hours of the event\, as this does not give us adequate
  time to fill the spot.\n</li></ul>\n<hr />\n\nSheJumps increases the part
 icipation of women and girls in outdoor activities to foster confidence\, 
 leadership\, and connection to nature and community through free and low-c
 ost outdoor education.\n\nSheJumps is an inclusive organization. We welcom
 e all women and girls—transgender and cisgender\, as well as non-binary pe
 ople.\n\nSheJumps strives to fight against racism and acknowledges that ou
 r events and programs take place on traditional\, unceded Indigenous lands
 .
DTSTART;TZID=America/Los_Angeles:20260109T173000
DTEND;TZID=America/Los_Angeles:20260109T200000
LOCATION:WRI's Red Barn\, 347 Division St\, Leavenworth\, WA 98826 US
SUMMARY:'Girl Winter' Film Screening with SheJumps
END:VEVENT
END:VCALENDAR
